Workbook

Sheet 2025 Indikatif
A1: No. | B1: item | C1: 2025 MIRIS | H1: 2025 IDEAL
C2: Volume | F2: Harga Satuan | G2: Jumlah | H2: Volume | K2: Harga Satuan | L2: Jumlah
C3: Orang | D3: Bulan/ Kali | E3: Total | H3: Orang | I3: Bulan/Kali | J3: Total
A4: A | B4: Upah | G4: =SUM(G5:G14) -> 5153520000 | L4: =SUM(L5:L14) -> 6702180000 | N4: NB:
A5: 1 | B5: Resepsionis | C5: 2 | D5: 12 | E5: =C5*D5 -> 24 | F5: 5250000 | G5: =E5*F5 -> 126000000 | H5: 2 | I5: 12 | J5: =H5*I5 -> 24 | K5: 5250000 | L5: =J5*K5 -> 126000000 | N5: 1. | O5: Gaji 2025 masih berdasarkan asumsi SBM 2024
A6: 2 | B6: Supervisor | C6: 1 | D6: 12 | E6: =C6*D6 -> 12 | F6: 5750000 | G6: =E6*F6 -> 69000000 | H6: 2 | I6: 12 | J6: =H6*I6 -> 24 | K6: 5750000 | L6: =J6*K6 -> 138000000
A7: 3 | B7: Petugas Taman | C7: 4 | D7: 12 | E7: =C7*D7 -> 48 | F7: 5104000 | G7: =E7*F7 -> 244992000 | H7: 4 | I7: 12 | J7: =H7*I7 -> 48 | K7: 5104000 | L7: =J7*K7 -> 244992000 | N7: Pembagian Tugas Pramubakti
A8: 4 | B8: Petugas Kebersihan | C8: 19 | D8: 12 | E8: =C8*D8 -> 228 | F8: 5104000 | G8: =E8*F8 -> 1163712000 | H8: 19 | I8: 12 | J8: =H8*I8 -> 228 | K8: 5104000 | L8: =J8*K8 -> 1163712000 | O8: Lantai | P8: Taman | Q8: Kebersihan | R8: Pramubakti
A9: 5 | B9: Pramubakti | C9: 7 | D9: 12 | E9: =C9*D9 -> 84 | F9: 5104000 | G9: =E9*F9 -> 428736000 | H9: 7 | I9: 12 | J9: =H9*I9 -> 84 | K9: 5104000 | L9: =J9*K9 -> 428736000 | O9: Basement & Lapangan | P9: 4 | Q9: 3 | R9: 0
A10: 6 | B10: Koord. Satpam | C10: 1 | D10: 12 | E10: =C10*D10 -> 12 | F10: 6215000 | G10: =E10*F10 -> 74580000 | H10: 1 | I10: 12 | J10: =H10*I10 -> 12 | K10: 6215000 | L10: =J10*K10 -> 74580000 | O10: 1 | P10: 0 | Q10: 1 | R10: 1
A11: 7 | B11: Danru Satpam | C11: 4 | D11: 12 | E11: =C11*D11 -> 48 | F11: 5915000 | G11: =E11*F11 -> 283920000 | H11: 4 | I11: 12 | J11: =H11*I11 -> 48 | K11: 5915000 | L11: =J11*K11 -> 283920000 | O11: 1B | P11: 0 | Q11: 2 | R11: 0
A12: 8 | B12: Anggota Satpam | C12: 19 | D12: 12 | E12: =C12*D12 -> 228 | F12: 5615000 | G12: =E12*F12 -> 1280220000 | H12: 23 | I12: 12 | J12: =H12*I12 -> 276 | K12: 5615000 | L12: =J12*K12 -> 1549740000 | O12: 2 | P12: 0 | Q12: 3 | R12: 1
A13: 9 | B13: Pengemudi | C13: 22 | D13: 12 | E13: =C13*D13 -> 264 | F13: 5615000 | G13: =E13*F13 -> 1482360000 | H13: 25 | I13: 12 | J13: =H13*I13 -> 300 | K13: 5615000 | L13: =J13*K13 -> 1684500000 | O13: 3 | P13: 0 | Q13: 3 | R13: 1
A14: 10 | B14: Teknisi | C14: 0 | D14: 12 | E14: =C14*D14 -> 0 | F14: 0 | G14: =E14*F14 -> 0 | H14: 16 | I14: 12 | J14: =H14*I14 -> 192 | K14: 5250000 | L14: =J14*K14 -> 1008000000 | O14: 4 | P14: 0 | Q14: 3 | R14: 1
A15: B | B15: Non Upah | O15: 5 | P15: 0 | Q15: 1 | R15: 1
A16: i | B16: Lembur | G16: =SUM(G17:G26) -> 171864000 | L16: =SUM(L17:L26) -> 2.7441488e+08 | O16: 6 | P16: 0 | Q16: 2 | R16: 1
A17: 1 | B17: Resepsionis | C17: =C5 -> 2 | D17: 0 | E17: =C17*D17 -> 0 | F17: 186000 | G17: =E17*F17 -> 0 | H17: =H5 -> 2 | I17: 12 | J17: =H17*I17 -> 24 | K17: =K5/173*17*5/12 -> 214956.65 | L17: =J17*K17 -> 5158959.5 | O17: Wisma Mandiri | P17: 0 | Q17: 1 | R17: 1
A18: 2 | B18: Supervisor | C18: =C6 -> 1 | D18: 12 | E18: =C18*D18 -> 12 | F18: 186000 | G18: =E18*F18 -> 2232000 | H18: =H6 -> 2 | I18: 12 | J18: =H18*I18 -> 24 | K18: =K6/173*17*5/12 -> 235428.71 | L18: =J18*K18 -> 5650289 | O18: TOTAL | P18: =SUM(P9:P17) -> 4 | Q18: =SUM(Q9:Q17) -> 19 | R18: =SUM(R9:R17) -> 7
A19: 3 | B19: Petugas Taman | C19: =C7 -> 4 | D19: 12 | E19: =C19*D19 -> 48 | F19: 186000 | G19: =E19*F19 -> 8928000 | H19: =H7 -> 4 | I19: 12 | J19: =H19*I19 -> 48 | K19: =K7/173*17*5/12 -> 208978.81 | L19: =J19*K19 -> 10030983
A20: 4 | B20: Petugas Kebersihan | C20: =C8 -> 19 | D20: 12 | E20: =C20*D20 -> 228 | F20: 186000 | G20: =E20*F20 -> 42408000 | H20: =H8 -> 19 | I20: 12 | J20: =H20*I20 -> 228 | K20: =K8/173*17*5/12 -> 208978.81 | L20: =J20*K20 -> 47647168 | N20: Pembagian Tugas Satpam
A21: 5 | B21: Pramubakti | C21: =C9 -> 7 | D21: 12 | E21: =C21*D21 -> 84 | F21: 186000 | G21: =E21*F21 -> 15624000 | H21: =H9 -> 7 | I21: 12 | J21: =H21*I21 -> 84 | K21: =K9/173*17*5/12 -> 208978.81 | L21: =J21*K21 -> 17554220 | O21: Tugas | P21: Jumlah | Q21: Keterangan
A22: 6 | B22: Koord. Satpam | C22: =C10 -> 1 | D22: 12 | E22: =C22*D22 -> 12 | F22: 186000 | G22: =E22*F22 -> 2232000 | H22: =H10 -> 1 | I22: 12 | J22: =H22*I22 -> 12 | K22: =K10/173*17*5/12 -> 254467.73 | L22: =J22*K22 -> 3053612.7 | O22: Komandan Regu | P22: 4 | Q22: Dibagi menjadi 4 regu
A23: 7 | B23: Danru Satpam | C23: =C11 -> 4 | D23: 12 | E23: =C23*D23 -> 48 | F23: 186000 | G23: =E23*F23 -> 8928000 | H23: =H11 -> 4 | I23: 12 | J23: =H23*I23 -> 48 | K23: =K11/173*17*5/12 -> 242184.49 | L23: =J23*K23 -> 11624855 | O23: Anggota Regu | P23: =4*4 -> 16 | Q23: 4 orang per regu
A24: 8 | B24: Anggota Satpam | C24: =C12 -> 19 | D24: 12 | E24: =C24*D24 -> 228 | F24: 186000 | G24: =E24*F24 -> 42408000 | H24: =H12 -> 23 | I24: 12 | J24: =H24*I24 -> 276 | K24: =K12/173*17*5/12 -> 229901.25 | L24: =J24*K24 -> 63452746 | O24: Anggota non-Regu | P24: 7 | Q24: dirolling bergantian setiap bulan antara regu dan non regu
A25: 9 | B25: Pengemudi | C25: =C13 -> 22 | D25: 12 | E25: =C25*D25 -> 264 | F25: 186000 | G25: =E25*F25 -> 49104000 | H25: =H13 -> 25 | I25: 12 | J25: =H25*I25 -> 300 | K25: =K13/173*17*5/12 -> 229901.25 | L25: =J25*K25 -> 68970376 | O25: TOTAL | P25: =SUM(P22:P24) -> 27
A26: 10 | B26: Teknisi | C26: =C14 -> 0 | D26: 12 | E26: =C26*D26 -> 0 | F26: 186000 | G26: =E26*F26 -> 0 | H26: =H14 -> 16 | I26: 12 | J26: =H26*I26 -> 192 | K26: =K14/173*17*5/12 -> 214956.65 | L26: =J26*K26 -> 41271676
A27: ii | B27: BPJS Kesehatan ditanggung pemberi kerja 4% | G27: =SUM(G28:G37) -> 206140800 | L27: =SUM(L28:L37) -> 268087200 | N27: Pembagian Tugas Driver
A28: 1 | B28: Resepsionis | C28: =C5 -> 2 | D28: 12 | E28: =C28*D28 -> 24 | F28: =4%*F5 -> 210000 | G28: =E28*F28 -> 5040000 | H28: =H5 -> 2 | I28: 12 | J28: =H28*I28 -> 24 | K28: =4%*K5 -> 210000 | L28: =J28*K28 -> 5040000 | O28: Tugas | P28: Jumlah | Q28: Keterangan
A29: 2 | B29: Supervisor | C29: =C6 -> 1 | D29: 12 | E29: =C29*D29 -> 12 | F29: =4%*F6 -> 230000 | G29: =E29*F29 -> 2760000 | H29: =H6 -> 2 | I29: 12 | J29: =H29*I29 -> 24 | K29: =4%*K6 -> 230000 | L29: =J29*K29 -> 5520000 | O29: Eselon I dan Kepala | P29: 5
A30: 3 | B30: Petugas Taman | C30: =C7 -> 4 | D30: 12 | E30: =C30*D30 -> 48 | F30: =4%*F7 -> 204160 | G30: =E30*F30 -> 9799680 | H30: =H7 -> 4 | I30: 12 | J30: =H30*I30 -> 48 | K30: =4%*K7 -> 204160 | L30: =J30*K30 -> 9799680 | O30: Eselon II | P30: 15 | Q30: belum menghitung 2 Tenaga Ahli
A31: 4 | B31: Petugas Kebersihan | C31: =C8 -> 19 | D31: 12 | E31: =C31*D31 -> 228 | F31: =4%*F8 -> 204160 | G31: =E31*F31 -> 46548480 | H31: =H8 -> 19 | I31: 12 | J31: =H31*I31 -> 228 | K31: =4%*K8 -> 204160 | L31: =J31*K31 -> 46548480 | O31: Antar Jemput+Operasional | P31: 5
A32: 5 | B32: Pramubakti | C32: =C9 -> 7 | D32: 12 | E32: =C32*D32 -> 84 | F32: =4%*F9 -> 204160 | G32: =E32*F32 -> 17149440 | H32: =H9 -> 7 | I32: 12 | J32: =H32*I32 -> 84 | K32: =4%*K9 -> 204160 | L32: =J32*K32 -> 17149440 | O32: TOTAL | P32: =SUM(P29:P31) -> 25
A33: 6 | B33: Koord. Satpam | C33: =C10 -> 1 | D33: 12 | E33: =C33*D33 -> 12 | F33: =4%*F10 -> 248600 | G33: =E33*F33 -> 2983200 | H33: =H10 -> 1 | I33: 12 | J33: =H33*I33 -> 12 | K33: =4%*K10 -> 248600 | L33: =J33*K33 -> 2983200
A34: 7 | B34: Danru Satpam | C34: =C11 -> 4 | D34: 12 | E34: =C34*D34 -> 48 | F34: =4%*F11 -> 236600 | G34: =E34*F34 -> 11356800 | H34: =H11 -> 4 | I34: 12 | J34: =H34*I34 -> 48 | K34: =4%*K11 -> 236600 | L34: =J34*K34 -> 11356800 | N34: Pembagian Tugas Teknisi
A35: 8 | B35: Anggota Satpam | C35: =C12 -> 19 | D35: 12 | E35: =C35*D35 -> 228 | F35: =4%*F12 -> 224600 | G35: =E35*F35 -> 51208800 | H35: =H12 -> 23 | I35: 12 | J35: =H35*I35 -> 276 | K35: =4%*K12 -> 224600 | L35: =J35*K35 -> 61989600 | O35: Tugas | P35: Jumlah | Q35: Keterangan
A36: 9 | B36: Pengemudi | C36: =C13 -> 22 | D36: 12 | E36: =C36*D36 -> 264 | F36: =4%*F13 -> 224600 | G36: =E36*F36 -> 59294400 | H36: =H13 -> 25 | I36: 12 | J36: =H36*I36 -> 300 | K36: =4%*K13 -> 224600 | L36: =J36*K36 -> 67380000 | O36: M/E | P36: .... | Q36: ....
A37: 10 | B37: Teknisi | C37: =C14 -> 0 | D37: 12 | E37: =C37*D37 -> 0 | F37: =4%*F14 -> 0 | G37: =E37*F37 -> 0 | H37: =H14 -> 16 | I37: 12 | J37: =H37*I37 -> 192 | K37: =4%*K14 -> 210000 | L37: =J37*K37 -> 40320000 | O37: Sipil | P37: .... | Q37: ....
A38: iii | B38: BPJS Ketenagakerjaan ditanggung pemberi kerja 4,24% | G38: =SUM(G39:G48) -> 218509248 | L38: =SUM(L39:L48) -> 284172432 | O38: TOTAL | P38: ....
A39: 1 | B39: Resepsionis | C39: =C5 -> 2 | D39: 12 | E39: =C39*D39 -> 24 | F39: =4.24%*F5 -> 222600 | G39: =E39*F39 -> 5342400 | H39: =H5 -> 2 | I39: 12 | J39: =H39*I39 -> 24 | K39: =4.24%*K5 -> 222600 | L39: =J39*K39 -> 5342400
A40: 2 | B40: Supervisor | C40: =C6 -> 1 | D40: 12 | E40: =C40*D40 -> 12 | F40: =4.24%*F6 -> 243800 | G40: =E40*F40 -> 2925600 | H40: =H6 -> 2 | I40: 12 | J40: =H40*I40 -> 24 | K40: =4.24%*K6 -> 243800 | L40: =J40*K40 -> 5851200
A41: 3 | B41: Petugas Taman | C41: =C7 -> 4 | D41: 12 | E41: =C41*D41 -> 48 | F41: =4.24%*F7 -> 216409.6 | G41: =E41*F41 -> 10387661 | H41: =H7 -> 4 | I41: 12 | J41: =H41*I41 -> 48 | K41: =4.24%*K7 -> 216409.6 | L41: =J41*K41 -> 10387661
A42: 4 | B42: Petugas Kebersihan | C42: =C8 -> 19 | D42: 12 | E42: =C42*D42 -> 228 | F42: =4.24%*F8 -> 216409.6 | G42: =E42*F42 -> 49341389 | H42: =H8 -> 19 | I42: 12 | J42: =H42*I42 -> 228 | K42: =4.24%*K8 -> 216409.6 | L42: =J42*K42 -> 49341389
A43: 5 | B43: Pramubakti | C43: =C9 -> 7 | D43: 12 | E43: =C43*D43 -> 84 | F43: =4.24%*F9 -> 216409.6 | G43: =E43*F43 -> 18178406 | H43: =H9 -> 7 | I43: 12 | J43: =H43*I43 -> 84 | K43: =4.24%*K9 -> 216409.6 | L43: =J43*K43 -> 18178406
A44: 6 | B44: Koord. Satpam | C44: =C10 -> 1 | D44: 12 | E44: =C44*D44 -> 12 | F44: =4.24%*F10 -> 263516 | G44: =E44*F44 -> 3162192 | H44: =H10 -> 1 | I44: 12 | J44: =H44*I44 -> 12 | K44: =4.24%*K10 -> 263516 | L44: =J44*K44 -> 3162192
A45: 7 | B45: Danru Satpam | C45: =C11 -> 4 | D45: 12 | E45: =C45*D45 -> 48 | F45: =4.24%*F11 -> 250796 | G45: =E45*F45 -> 12038208 | H45: =H11 -> 4 | I45: 12 | J45: =H45*I45 -> 48 | K45: =4.24%*K11 -> 250796 | L45: =J45*K45 -> 12038208
A46: 8 | B46: Anggota Satpam | C46: =C12 -> 19 | D46: 12 | E46: =C46*D46 -> 228 | F46: =4.24%*F12 -> 238076 | G46: =E46*F46 -> 54281328 | H46: =H12 -> 23 | I46: 12 | J46: =H46*I46 -> 276 | K46: =4.24%*K12 -> 238076 | L46: =J46*K46 -> 65708976
A47: 9 | B47: Pengemudi | C47: =C13 -> 22 | D47: 12 | E47: =C47*D47 -> 264 | F47: =4.24%*F13 -> 238076 | G47: =E47*F47 -> 62852064 | H47: =H13 -> 25 | I47: 12 | J47: =H47*I47 -> 300 | K47: =4.24%*K13 -> 238076 | L47: =J47*K47 -> 71422800
A48: 10 | B48: Teknisi | C48: =C14 -> 0 | D48: 12 | E48: =C48*D48 -> 0 | F48: =4.24%*F14 -> 0 | G48: =E48*F48 -> 0 | H48: =H14 -> 16 | I48: 12 | J48: =H48*I48 -> 192 | K48: =4.24%*K14 -> 222600 | L48: =J48*K48 -> 42739200
A49: iv | B49: Tunjangan Hari Raya | G49: =SUM(G50:G59) -> 429460000 | L49: =SUM(L50:L59) -> 558515000
A50: 1 | B50: Resepsionis | C50: =C5 -> 2 | D50: 1 | E50: =C50*D50 -> 2 | F50: =F5 -> 5250000 | G50: =E50*F50 -> 10500000 | H50: =H5 -> 2 | I50: 1 | J50: =H50*I50 -> 2 | K50: =K5 -> 5250000 | L50: =J50*K50 -> 10500000
A51: 2 | B51: Supervisor | C51: =C6 -> 1 | D51: 1 | E51: =C51*D51 -> 1 | F51: =F6 -> 5750000 | G51: =E51*F51 -> 5750000 | H51: =H6 -> 2 | I51: 1 | J51: =H51*I51 -> 2 | K51: =K6 -> 5750000 | L51: =J51*K51 -> 11500000
A52: 3 | B52: Petugas Taman | C52: =C7 -> 4 | D52: 1 | E52: =C52*D52 -> 4 | F52: =F7 -> 5104000 | G52: =E52*F52 -> 20416000 | H52: =H7 -> 4 | I52: 1 | J52: =H52*I52 -> 4 | K52: =K7 -> 5104000 | L52: =J52*K52 -> 20416000
A53: 4 | B53: Petugas Kebersihan | C53: =C8 -> 19 | D53: 1 | E53: =C53*D53 -> 19 | F53: =F8 -> 5104000 | G53: =E53*F53 -> 96976000 | H53: =H8 -> 19 | I53: 1 | J53: =H53*I53 -> 19 | K53: =K8 -> 5104000 | L53: =J53*K53 -> 96976000
A54: 5 | B54: Pramubakti | C54: =C9 -> 7 | D54: 1 | E54: =C54*D54 -> 7 | F54: =F9 -> 5104000 | G54: =E54*F54 -> 35728000 | H54: =H9 -> 7 | I54: 1 | J54: =H54*I54 -> 7 | K54: =K9 -> 5104000 | L54: =J54*K54 -> 35728000
A55: 6 | B55: Koord. Satpam | C55: =C10 -> 1 | D55: 1 | E55: =C55*D55 -> 1 | F55: =F10 -> 6215000 | G55: =E55*F55 -> 6215000 | H55: =H10 -> 1 | I55: 1 | J55: =H55*I55 -> 1 | K55: =K10 -> 6215000 | L55: =J55*K55 -> 6215000
A56: 7 | B56: Danru Satpam | C56: =C11 -> 4 | D56: 1 | E56: =C56*D56 -> 4 | F56: =F11 -> 5915000 | G56: =E56*F56 -> 23660000 | H56: =H11 -> 4 | I56: 1 | J56: =H56*I56 -> 4 | K56: =K11 -> 5915000 | L56: =J56*K56 -> 23660000
A57: 8 | B57: Anggota Satpam | C57: =C12 -> 19 | D57: 1 | E57: =C57*D57 -> 19 | F57: =F12 -> 5615000 | G57: =E57*F57 -> 106685000 | H57: =H12 -> 23 | I57: 1 | J57: =H57*I57 -> 23 | K57: =K12 -> 5615000 | L57: =J57*K57 -> 129145000
A58: 9 | B58: Pengemudi | C58: =C13 -> 22 | D58: 1 | E58: =C58*D58 -> 22 | F58: =F13 -> 5615000 | G58: =E58*F58 -> 123530000 | H58: =H13 -> 25 | I58: 1 | J58: =H58*I58 -> 25 | K58: =K13 -> 5615000 | L58: =J58*K58 -> 140375000
A59: 10 | B59: Teknisi | C59: =C14 -> 0 | D59: 1 | E59: =C59*D59 -> 0 | F59: =F14 -> 0 | G59: =E59*F59 -> 0 | H59: =H14 -> 16 | I59: 1 | J59: =H59*I59 -> 16 | K59: =K14 -> 5250000 | L59: =J59*K59 -> 84000000
A60: v | B60: Kompensasi PKWT | G60: =SUM(G61:G70) -> 0 | L60: =SUM(L61:L70) -> 558515000
A61: 1 | B61: Resepsionis | C61: =C5 -> 2 | D61: 0 | E61: =C61*D61 -> 0 | F61: =F5 -> 5250000 | G61: =E61*F61 -> 0 | H61: =H5 -> 2 | I61: 1 | J61: =H61*I61 -> 2 | K61: =K5 -> 5250000 | L61: =J61*K61 -> 10500000
A62: 2 | B62: Supervisor | C62: =C6 -> 1 | D62: 0 | E62: =C62*D62 -> 0 | F62: =F6 -> 5750000 | G62: =E62*F62 -> 0 | H62: =H6 -> 2 | I62: 1 | J62: =H62*I62 -> 2 | K62: =K6 -> 5750000 | L62: =J62*K62 -> 11500000
A63: 3 | B63: Petugas Taman | C63: =C7 -> 4 | D63: 0 | E63: =C63*D63 -> 0 | F63: =F7 -> 5104000 | G63: =E63*F63 -> 0 | H63: =H7 -> 4 | I63: 1 | J63: =H63*I63 -> 4 | K63: =K7 -> 5104000 | L63: =J63*K63 -> 20416000
A64: 4 | B64: Petugas Kebersihan | C64: =C8 -> 19 | D64: 0 | E64: =C64*D64 -> 0 | F64: =F8 -> 5104000 | G64: =E64*F64 -> 0 | H64: =H8 -> 19 | I64: 1 | J64: =H64*I64 -> 19 | K64: =K8 -> 5104000 | L64: =J64*K64 -> 96976000
A65: 5 | B65: Pramubakti | C65: =C9 -> 7 | D65: 0 | E65: =C65*D65 -> 0 | F65: =F9 -> 5104000 | G65: =E65*F65 -> 0 | H65: =H9 -> 7 | I65: 1 | J65: =H65*I65 -> 7 | K65: =K9 -> 5104000 | L65: =J65*K65 -> 35728000
A66: 6 | B66: Koord. Satpam | C66: =C10 -> 1 | D66: 0 | E66: =C66*D66 -> 0 | F66: =F10 -> 6215000 | G66: =E66*F66 -> 0 | H66: =H10 -> 1 | I66: 1 | J66: =H66*I66 -> 1 | K66: =K10 -> 6215000 | L66: =J66*K66 -> 6215000
A67: 7 | B67: Danru Satpam | C67: =C11 -> 4 | D67: 0 | E67: =C67*D67 -> 0 | F67: =F11 -> 5915000 | G67: =E67*F67 -> 0 | H67: =H11 -> 4 | I67: 1 | J67: =H67*I67 -> 4 | K67: =K11 -> 5915000 | L67: =J67*K67 -> 23660000
A68: 8 | B68: Anggota Satpam | C68: =C12 -> 19 | D68: 0 | E68: =C68*D68 -> 0 | F68: =F12 -> 5615000 | G68: =E68*F68 -> 0 | H68: =H12 -> 23 | I68: 1 | J68: =H68*I68 -> 23 | K68: =K12 -> 5615000 | L68: =J68*K68 -> 129145000
A69: 9 | B69: Pengemudi | C69: =C13 -> 22 | D69: 0 | E69: =C69*D69 -> 0 | F69: =F13 -> 5615000 | G69: =E69*F69 -> 0 | H69: =H13 -> 25 | I69: 1 | J69: =H69*I69 -> 25 | K69: =K13 -> 5615000 | L69: =J69*K69 -> 140375000
A70: 10 | B70: Teknisi | C70: =C14 -> 0 | D70: 0 | E70: =C70*D70 -> 0 | F70: =F14 -> 0 | G70: =E70*F70 -> 0 | H70: =H14 -> 16 | I70: 1 | J70: =H70*I70 -> 16 | K70: =K14 -> 5250000 | L70: =J70*K70 -> 84000000
A71: B | B71: Operasional | G71: =SUM(G72:G77) -> 218300000 | L71: =SUM(L72:L77) -> 352500000
A72: 1 | B72: Seragam | C72: =SUM(C5,C6,C7,C8,C9,C13) -> 55 | D72: 2 | E72: =C72*D72 -> 110 | F72: 550000 | G72: =E72*F72 -> 60500000 | H72: =SUM(H5,H6,H7,H8,H9,H13) -> 59 | I72: 2 | J72: =H72*I72 -> 118 | K72: 550000 | L72: =J72*K72 -> 64900000
A73: 2 | B73: Pengembangan Pegawai | C73: =SUM(C5,C7,C8,C9,C13,C14) -> 54 | D73: 1 | E73: =C73*D73 -> 54 | F73: 1500000 | G73: =E73*F73 -> 81000000 | H73: =SUM(H5,H7,H8,H9,H11,H12,H13,H14) -> 100 | I73: 1 | J73: =H73*I73 -> 100 | K73: 1500000 | L73: =J73*K73 -> 150000000
A74: 3 | B74: Seragam Satpam dan Teknisi | C74: =SUM(C10,C11,C12,C14) -> 24 | D74: 2 | E74: =C74*D74 -> 48 | F74: 1200000 | G74: =E74*F74 -> 57600000 | H74: =SUM(H10,H11,H12,H14) -> 44 | I74: 2 | J74: =H74*I74 -> 88 | K74: 1200000 | L74: =J74*K74 -> 105600000
A75: 4 | B75: Pelatihan dan Refresh | C75: =SUM(C10,C11,C12) -> 24 | D75: 4 | E75: =C75*D75 -> 96 | F75: 100000 | G75: =E75*F75 -> 9600000 | H75: =SUM(H10,H11,H12) -> 28 | I75: 4 | J75: =H75*I75 -> 112 | K75: 100000 | L75: =J75*K75 -> 11200000
A76: 5 | B76: Patroli dan Koordinasi | C76: =SUM(C10,C11,C12) -> 24 | D76: 4 | E76: =C76*D76 -> 96 | F76: 100000 | G76: =E76*F76 -> 9600000 | H76: =SUM(H11,H12,H13) -> 52 | I76: 4 | J76: =H76*I76 -> 208 | K76: 100000 | L76: =J76*K76 -> 20800000
A77: 6 | B77: Pengembangan Satpam & Legalitas | C77: 8 | D77: 0 | E77: =C77*D77 -> 0 | F77: 6000000 | G77: =E77*F77 -> 0 | H77: 0 | I77: 0 | J77: =H77*I77 -> 0 | K77: 0 | L77: =J77*K77 -> 0
A78: C | B78: MANAGEMENT FEE | G78: =10%*SUM(G4,G16,G27,G38,G49,G60,G71) -> 6.397794e+08 | L78: =10%*SUM(L4,L16,L27,L38,L49,L60,L71) -> 8.9983845e+08
F79: SUBTOTAL | G79: =SUM(G4,G16,G27,G38,G49,G60,G71,G78) -> 7.0375735e+09 | K79: SUBTOTAL | L79: =SUM(L4,L16,L27,L38,L49,L60,L71,L78) -> 9.898223e+09
F80: PPN 12% | G80: =G79*12% -> 8.4450881e+08 | K80: PPN 12% | L80: =L79*12% -> 1.1877868e+09
F81: TOTAL | G81: =G79+G80 -> 7.8820823e+09 | K81: TOTAL | L81: =L79+L80 -> 1.108601e+10

Sheet Gaji Existing
A1: No. | B1: ITEM | C1: 2025 IDEAL
C2: Volume | F2: Harga Satuan | G2: Jumlah
C3: Orang | D3: Bulan/Kali | E3: Total
A4: A | B4: Upah | G4: =SUM(G5:G14) -> 6000516000 | W4: 5104000 | X4: 5513000 | Y4: =X4-W4 -> 409000
A5: 1 | B5: Resepsionis | C5: 2 | D5: 12 | E5: =C5*D5 -> 24 | F5: 5250000 | G5: =E5*F5 -> 126000000 | W5: 5615000 | X5: 6065000 | Y5: =X5-W5 -> 450000
A6: 2 | B6: Supervisor | C6: 2 | D6: 12 | E6: =C6*D6 -> 24 | F6: 5750000 | G6: =E6*F6 -> 138000000
A7: 3 | B7: Petugas Taman | C7: 4 | D7: 12 | E7: =C7*D7 -> 48 | F7: 5104000 | G7: =E7*F7 -> 244992000 | I7: Pembagian Tugas Pramubakti
A8: 4 | B8: Petugas Kebersihan | C8: 18 | D8: 12 | E8: =C8*D8 -> 216 | F8: 5104000 | G8: =E8*F8 -> 1102464000 | J8: Lantai | K8: Gardener | L8: Kebersihan | M8: Pramubakti | Q8: Jabatan | R8: Gaji 2024 | S8: Selisih | T8: Gaji 2025 | U8: PPN | V8: Management Fee | W8: Total | X8: SBM
A9: 5 | B9: Pramubakti | C9: 10 | D9: 12 | E9: =C9*D9 -> 120 | F9: 5104000 | G9: =E9*F9 -> 612480000 | J9: Basement, Klinik, dan Masjid | K9: 4 | L9: 2 | M9: 0 | Q9: Resepsionis | R9: 5250000 | S9: 150000 | T9: =R9+S9 -> 5400000 | U9: =T9*12% -> 648000 | V9: =10%*T9 -> 540000 | W9: =T9+U9+V9 -> 6588000 | X9: 0
A10: 6 | B10: Koord. Satpam | C10: 1 | D10: 12 | E10: =C10*D10 -> 12 | F10: 6215000 | G10: =E10*F10 -> 74580000 | J10: Lapangan | K10: 0 | L10: 2 | M10: 0 | Q10: Supervisor | R10: 5750000 | S10: 150000 | T10: =R10+S10 -> 5900000 | U10: =T10*12% -> 708000 | V10: =10%*T10 -> 590000 | W10: =T10+U10+V10 -> 7198000 | X10: 0
A11: 7 | B11: Danru Satpam | C11: 5 | D11: 12 | E11: =C11*D11 -> 60 | F11: 5915000 | G11: =E11*F11 -> 354900000 | J11: Lantai 1 | K11: 0 | L11: 2 | M11: 1 | Q11: Petugas Taman | R11: 5104000 | S11: 150000 | T11: =R11+S11 -> 5254000 | U11: =T11*12% -> 630480 | V11: =10%*T11 -> 525400 | W11: =T11+U11+V11 -> 6409880 | X11: =5513000*1.25 -> 6891250
A12: 8 | B12: Anggota Satpam | C12: 23 | D12: 12 | E12: =C12*D12 -> 276 | F12: 5615000 | G12: =E12*F12 -> 1549740000 | J12: Lantai 2 | K12: 0 | L12: 3 | M12: 1 | Q12: Petugas Kebersihan | R12: 5104000 | S12: 150000 | T12: =R12+S12 -> 5254000 | U12: =T12*12% -> 630480 | V12: =10%*T12 -> 525400 | W12: =T12+U12+V12 -> 6409880 | X12: =5513000*1.25 -> 6891250
A13: 9 | B13: Pengemudi | C13: 22 | D13: 12 | E13: =C13*D13 -> 264 | F13: 5615000 | G13: =E13*F13 -> 1482360000 | J13: Lantai 3 | K13: 0 | L13: 3 | M13: 2 | Q13: Pramubakti | R13: 5104000 | S13: 150000 | T13: =R13+S13 -> 5254000 | U13: =T13*12% -> 630480 | V13: =10%*T13 -> 525400 | W13: =T13+U13+V13 -> 6409880 | X13: =5513000*1.25 -> 6891250
A14: 10 | B14: Teknisi | C14: 5 | D14: 12 | E14: =C14*D14 -> 60 | F14: 5250000 | G14: =E14*F14 -> 315000000 | J14: Lantai 4 | K14: 0 | L14: 2 | M14: 2 | Q14: Koord. Satpam | R14: 6215000 | S14: 150000 | T14: =R14+S14 -> 6365000 | U14: =T14*12% -> 763800 | V14: =10%*T14 -> 636500 | W14: =T14+U14+V14 -> 7765300 | X14: 0
A15: B | B15: Non Upah | J15: Lantai 5 | K15: 0 | L15: 2 | M15: 1 | Q15: Danru Satpam | R15: 5915000 | S15: 150000 | T15: =R15+S15 -> 6065000 | U15: =T15*12% -> 727800 | V15: =10%*T15 -> 606500 | W15: =T15+U15+V15 -> 7399300 | X15: =6065000*1.25 -> 7581250
A16: i | B16: Lembur | G16: =SUM(G17:G26) -> 1.0488749e+08 | J16: Lantai 6 | K16: 0 | L16: 2 | M16: 1 | Q16: Anggota Satpam | R16: 5615000 | S16: 150000 | T16: =R16+S16 -> 5765000 | U16: =T16*12% -> 691800 | V16: =10%*T16 -> 576500 | W16: =T16+U16+V16 -> 7033300 | X16: =6065000*1.25 -> 7581250
A17: 1 | B17: Resepsionis | C17: 0 | D17: 0 | E17: =C17*D17 -> 0 | F17: =F5/173*2*8 -> 485549.13 | G17: =E17*F17 -> 0 | J17: Wisma Mandiri | K17: 0 | L17: 0 | M17: 2 | Q17: Pengemudi | R17: 5615000 | S17: 150000 | T17: =R17+S17 -> 5765000 | U17: =T17*12% -> 691800 | V17: =10%*T17 -> 576500 | W17: =T17+U17+V17 -> 7033300 | X17: =6065000*1.25 -> 7581250
A18: 2 | B18: Supervisor | C18: 2 | D18: 6 | E18: =C18*D18 -> 12 | F18: =F6/173*2*8 -> 531791.91 | G18: =E18*F18 -> 6381502.9 | J18: TOTAL | K18: =SUM(K9:K17) -> 4 | L18: =SUM(L9:L17) -> 18 | M18: =SUM(M9:M17) -> 10 | Q18: Teknisi | R18: 0 | S18: 0 | T18: 5400000 | U18: =T18*12% -> 648000 | V18: =10%*T18 -> 540000 | W18: =T18+U18+V18 -> 6588000 | X18: 0
A19: 3 | B19: Petugas Taman | C19: 4 | D19: 6 | E19: =C19*D19 -> 24 | F19: =F7/173*2*8 -> 472046.24 | G19: =E19*F19 -> 11329110
A20: 4 | B20: Petugas Kebersihan | C20: 10 | D20: 6 | E20: =C20*D20 -> 60 | F20: =F8/173*2*8 -> 472046.24 | G20: =E20*F20 -> 28322775 | I20: Pembagian Tugas Satpam | R20: 5615000 | S20: 5750000 | T20: =S20-R20 -> 135000
A21: 5 | B21: Pramubakti | C21: 0 | D21: 0 | E21: =C21*D21 -> 0 | F21: =F9/173*2*8 -> 472046.24 | G21: =E21*F21 -> 0 | J21: Tugas | K21: Jumlah | L21: Keterangan | R21: 5915000 | S21: 6050000 | T21: =S21-R21 -> 135000
A22: 6 | B22: Koord. Satpam | C22: 1 | D22: 0 | E22: =C22*D22 -> 0 | F22: =F10/173*2*8 -> 574797.69 | G22: =E22*F22 -> 0 | J22: Komandan Regu | K22: 4 | L22: Dibagi menjadi 4 regu | R22: 6215000 | S22: 6350000 | T22: =S22-R22 -> 135000
A23: 7 | B23: Danru Satpam | C23: 4 | D23: 6 | E23: =C23*D23 -> 24 | F23: =F11/173*2*8 -> 547052.02 | G23: =E23*F23 -> 13129249 | J23: Anggota Regu | K23: =4*4 -> 16 | L23: 4 orang per regu
A24: 8 | B24: Anggota Satpam | C24: 5 | D24: 6 | E24: =C24*D24 -> 30 | F24: =F12/173*2*8 -> 519306.36 | G24: =E24*F24 -> 15579191 | J24: Anggota non-Regu | K24: 7 | L24: dirolling bergantian setiap bulan antara regu dan non regu | R24: 5000000 | S24: =R24/173 -> 28901.734 | T24: jam 1 | U24: =S24*1*1.5 -> 43352.601
A25: 9 | B25: Pengemudi | C25: 5 | D25: 6 | E25: =C25*D25 -> 30 | F25: =F13/173*2*8 -> 519306.36 | G25: =E25*F25 -> 15579191 | J25: TOTAL | K25: =SUM(K22:K24) -> 27 | T25: jam 2-4 | U25: =3*2*S24 -> 173410.4
A26: 10 | B26: Teknisi | C26: 5 | D26: 6 | E26: =C26*D26 -> 30 | F26: =F14/173*2*8 -> 485549.13 | G26: =E26*F26 -> 14566474 | T26: lembur 4 jam hari kerja | U26: =SUM(U24:U25) -> 216763.01
A27: ii | B27: BPJS Kesehatan ditanggung pemberi kerja 4% | G27: =SUM(G28:G37) -> 240020640 | I27: Pembagian Tugas Driver
A28: 1 | B28: Resepsionis | C28: =C5 -> 2 | D28: 12 | E28: =C28*D28 -> 24 | F28: =4%*F5 -> 210000 | G28: =E28*F28 -> 5040000 | J28: Tugas | K28: Jumlah | L28: Keterangan | T28: lembur 6 jam hari libur | U28: =S24*2*6 -> 346820.81
A29: 2 | B29: Supervisor | C29: =C6 -> 2 | D29: 12 | E29: =C29*D29 -> 24 | F29: =4%*F6 -> 230000 | G29: =E29*F29 -> 5520000 | J29: Eselon I dan Kepala | K29: 5
A30: 3 | B30: Petugas Taman | C30: =C7 -> 4 | D30: 12 | E30: =C30*D30 -> 48 | F30: =4%*F7 -> 204160 | G30: =E30*F30 -> 9799680 | J30: Eselon II | K30: 15 | L30: belum menghitung 2 Tenaga Ahli
A31: 4 | B31: Petugas Kebersihan | C31: =C8 -> 18 | D31: 12 | E31: =C31*D31 -> 216 | F31: =4%*F8 -> 204160 | G31: =E31*F31 -> 44098560 | J31: Antar Jemput+Operasional | K31: 5
A32: 5 | B32: Pramubakti | C32: =C9 -> 10 | D32: 12 | E32: =C32*D32 -> 120 | F32: =4%*F9 -> 204160 | G32: =E32*F32 -> 24499200 | J32: TOTAL | K32: =SUM(K29:K31) -> 25
A33: 6 | B33: Koord. Satpam | C33: =C10 -> 1 | D33: 12 | E33: =C33*D33 -> 12 | F33: =4%*F10 -> 248600 | G33: =E33*F33 -> 2983200
A34: 7 | B34: Danru Satpam | C34: =C11 -> 5 | D34: 12 | E34: =C34*D34 -> 60 | F34: =4%*F11 -> 236600 | G34: =E34*F34 -> 14196000 | I34: Pembagian Tugas Teknisi
A35: 8 | B35: Anggota Satpam | C35: =C12 -> 23 | D35: 12 | E35: =C35*D35 -> 276 | F35: =4%*F12 -> 224600 | G35: =E35*F35 -> 61989600 | J35: Tugas | K35: Jumlah | L35: Keterangan
A36: 9 | B36: Pengemudi | C36: =C13 -> 22 | D36: 12 | E36: =C36*D36 -> 264 | F36: =4%*F13 -> 224600 | G36: =E36*F36 -> 59294400 | J36: M/E | K36: 8 | L36: ....
A37: 10 | B37: Teknisi | C37: =C14 -> 5 | D37: 12 | E37: =C37*D37 -> 60 | F37: =4%*F14 -> 210000 | G37: =E37*F37 -> 12600000 | J37: Sipil | K37: 4 | L37: ....
A38: iii | B38: BPJS Ketenagakerjaan ditanggung pemberi kerja 4,24% | G38: =SUM(G39:G48) -> 2.5442188e+08 | J38: TOTAL | K38: =SUM(K36:K37) -> 12
A39: 1 | B39: Resepsionis | C39: =C5 -> 2 | D39: 12 | E39: =C39*D39 -> 24 | F39: =4.24%*F5 -> 222600 | G39: =E39*F39 -> 5342400
A40: 2 | B40: Supervisor | C40: =C6 -> 2 | D40: 12 | E40: =C40*D40 -> 24 | F40: =4.24%*F6 -> 243800 | G40: =E40*F40 -> 5851200 | J40: Driver | K40: Jumlah
A41: 3 | B41: Petugas Taman | C41: =C7 -> 4 | D41: 12 | E41: =C41*D41 -> 48 | F41: =4.24%*F7 -> 216409.6 | G41: =E41*F41 -> 10387661 | J41: KEPALA
A42: 4 | B42: Petugas Kebersihan | C42: =C8 -> 18 | D42: 12 | E42: =C42*D42 -> 216 | F42: =4.24%*F8 -> 216409.6 | G42: =E42*F42 -> 46744474 | J42: SETIA | K42: 1
A43: 5 | B43: Pramubakti | C43: =C9 -> 10 | D43: 12 | E43: =C43*D43 -> 120 | F43: =4.24%*F9 -> 216409.6 | G43: =E43*F43 -> 25969152 | J43: ASA
A44: 6 | B44: Koord. Satpam | C44: =C10 -> 1 | D44: 12 | E44: =C44*D44 -> 12 | F44: =4.24%*F10 -> 263516 | G44: =E44*F44 -> 3162192 | J44: TEGAS | K44: 1
A45: 7 | B45: Danru Satpam | C45: =C11 -> 5 | D45: 12 | E45: =C45*D45 -> 60 | F45: =4.24%*F11 -> 250796 | G45: =E45*F45 -> 15047760 | J45: PENGASUH | K45: 1
A46: 8 | B46: Anggota Satpam | C46: =C12 -> 23 | D46: 12 | E46: =C46*D46 -> 276 | F46: =4.24%*F12 -> 238076 | G46: =E46*F46 -> 65708976 | J46: BIRU | K46: 1
A47: 9 | B47: Pengemudi | C47: =C13 -> 22 | D47: 12 | E47: =C47*D47 -> 264 | F47: =4.24%*F13 -> 238076 | G47: =E47*F47 -> 62852064 | J47: BERMAKNA
A48: 10 | B48: Teknisi | C48: =C14 -> 5 | D48: 12 | E48: =C48*D48 -> 60 | F48: =4.24%*F14 -> 222600 | G48: =E48*F48 -> 13356000 | J48: BINCANG
A49: iv | B49: Tunjangan Hari Raya | G49: =SUM(G50:G59) -> 500043000 | J49: SIASAT | K49: 1
A50: 1 | B50: Resepsionis | C50: =C5 -> 2 | D50: 1 | E50: =C50*D50 -> 2 | F50: =F5 -> 5250000 | G50: =E50*F50 -> 10500000 | J50: SIDIK | K50: 1
A51: 2 | B51: Supervisor | C51: =C6 -> 2 | D51: 1 | E51: =C51*D51 -> 2 | F51: =F6 -> 5750000 | G51: =E51*F51 -> 11500000 | J51: SIAGA
A52: 3 | B52: Petugas Taman | C52: =C7 -> 4 | D52: 1 | E52: =C52*D52 -> 4 | F52: =F7 -> 5104000 | G52: =E52*F52 -> 20416000 | J52: REKAN
A53: 4 | B53: Petugas Kebersihan | C53: =C8 -> 18 | D53: 1 | E53: =C53*D53 -> 18 | F53: =F8 -> 5104000 | G53: =E53*F53 -> 91872000 | J53: PENJAGA | K53: 1
A54: 5 | B54: Pramubakti | C54: =C9 -> 10 | D54: 1 | E54: =C54*D54 -> 10 | F54: =F9 -> 5104000 | G54: =E54*F54 -> 51040000 | J54: PATUH | K54: 1
A55: 6 | B55: Koord. Satpam | C55: =C10 -> 1 | D55: 1 | E55: =C55*D55 -> 1 | F55: =F10 -> 6215000 | G55: =E55*F55 -> 6215000 | J55: SALAM
A56: 7 | B56: Danru Satpam | C56: =C11 -> 5 | D56: 1 | E56: =C56*D56 -> 5 | F56: =F11 -> 5915000 | G56: =E56*F56 -> 29575000 | J56: SERASI | K56: 1
A57: 8 | B57: Anggota Satpam | C57: =C12 -> 23 | D57: 1 | E57: =C57*D57 -> 23 | F57: =F12 -> 5615000 | G57: =E57*F57 -> 129145000 | J57: KREASI | K57: 1
A58: 9 | B58: Pengemudi | C58: =C13 -> 22 | D58: 1 | E58: =C58*D58 -> 22 | F58: =F13 -> 5615000 | G58: =E58*F58 -> 123530000 | J58: PEKA
A59: 10 | B59: Teknisi | C59: =C14 -> 5 | D59: 1 | E59: =C59*D59 -> 5 | F59: =F14 -> 5250000 | G59: =E59*F59 -> 26250000 | J59: LOGIS
A60: v | B60: Kompensasi PKWT | G60: =SUM(G61:G70) -> 500043000 | J60: BERMITRA | K60: 1
A61: 1 | B61: Resepsionis | C61: =C5 -> 2 | D61: 1 | E61: =C61*D61 -> 2 | F61: =F5 -> 5250000 | G61: =E61*F61 -> 10500000 | J61: TA AHLI | K61: 1
A62: 2 | B62: Supervisor | C62: =C6 -> 2 | D62: 1 | E62: =C62*D62 -> 2 | F62: =F6 -> 5750000 | G62: =E62*F62 -> 11500000 | J62: OPERASIONAL | K62: 10
A63: 3 | B63: Petugas Taman | C63: =C7 -> 4 | D63: 1 | E63: =C63*D63 -> 4 | F63: =F7 -> 5104000 | G63: =E63*F63 -> 20416000 | J63: Jumlah | K63: =SUM(K42:K62) -> 22
A64: 4 | B64: Petugas Kebersihan | C64: =C8 -> 18 | D64: 1 | E64: =C64*D64 -> 18 | F64: =F8 -> 5104000 | G64: =E64*F64 -> 91872000
A65: 5 | B65: Pramubakti | C65: =C9 -> 10 | D65: 1 | E65: =C65*D65 -> 10 | F65: =F9 -> 5104000 | G65: =E65*F65 -> 51040000
A66: 6 | B66: Koord. Satpam | C66: =C10 -> 1 | D66: 1 | E66: =C66*D66 -> 1 | F66: =F10 -> 6215000 | G66: =E66*F66 -> 6215000
A67: 7 | B67: Danru Satpam | C67: =C11 -> 5 | D67: 1 | E67: =C67*D67 -> 5 | F67: =F11 -> 5915000 | G67: =E67*F67 -> 29575000
A68: 8 | B68: Anggota Satpam | C68: =C12 -> 23 | D68: 1 | E68: =C68*D68 -> 23 | F68: =F12 -> 5615000 | G68: =E68*F68 -> 129145000
A69: 9 | B69: Pengemudi | C69: =C13 -> 22 | D69: 1 | E69: =C69*D69 -> 22 | F69: =F13 -> 5615000 | G69: =E69*F69 -> 123530000
A70: 10 | B70: Teknisi | C70: =C14 -> 5 | D70: 1 | E70: =C70*D70 -> 5 | F70: =F14 -> 5250000 | G70: =E70*F70 -> 26250000
A71: C | B71: Operasional | G71: =SUM(G72:G79) -> 205668000
A72: 1 | B72: Seragam | C72: =SUM(C5,C6,C7,C8,C9,C13) -> 58 | D72: 2 | E72: =C72*D72 -> 116 | F72: 738000 | G72: =E72*F72 -> 85608000
A73: 2 | B73: Seragam Satpam dan Teknisi | C73: =SUM(C10,C11,C12,C14) -> 34 | D73: 2 | E73: =C73*D73 -> 68 | F73: 1200000 | G73: =E73*F73 -> 81600000
A74: 3 | B74: Double Bucket | C74: 8 | D74: 12 | E74: =C74*D74 -> 96 | F74: 110000 | G74: =E74*F74 -> 10560000
A75: 4 | B75: Vacuum Wet ad Dry | C75: 2 | D75: 12 | E75: =C75*D75 -> 24 | F75: 215000 | G75: =E75*F75 -> 5160000
A76: 5 | B76: Carpet Extractor | C76: 1 | D76: 12 | E76: =C76*D76 -> 12 | F76: 215000 | G76: =E76*F76 -> 2580000
A77: 6 | B77: Blower Karpet | C77: 2 | D77: 12 | E77: =C77*D77 -> 24 | F77: 215000 | G77: =E77*F77 -> 5160000
A78: 7 | B78: Mesin Scrubber | C78: 2 | D78: 12 | E78: =C78*D78 -> 24 | F78: 550000 | G78: =E78*F78 -> 13200000
A79: 8 | B79: Vacuum Dry Cleaner | C79: 1 | D79: 12 | E79: =C79*D79 -> 12 | F79: 150000 | G79: =E79*F79 -> 1800000
A80: C | B80: MANAGEMENT FEE | F80: =G80 -> 7.599932e+08 | G80: =10%*SUM(G4,G16,G27,G38,G49,G60) -> 7.599932e+08
F81: SUBTOTAL | G81: =SUM(G4,G16,G27,G38,G49,G60,G71,G80) -> 8.5655932e+09
F82: PPN 12% | G82: =G81*12% -> 1.0278712e+09
F83: TOTAL | G83: =G81+G82 -> 9.5934644e+09
F84: Termin per Bulan | G84: =G83/12 -> 7.9945537e+08
J102: =#REF!/12 -> #REF!

Sheet Rekap
A2: No. | B2: URAIAN BIAYA | C2: JENIS BIAYA | D2: SUBTOTAL HARGA | E2: PPN | F2: TOTAL HARGA
A3: A | B3: PERSONIL
A4: 1 | B4: Resepsionis | C4: Lumsum | D4: =ROUND(Personil!N6,0) -> 166375680 | E4: =11%*D4 -> 18301325 | F4: =D4+E4 -> 1.84677e+08
A5: 2 | B5: Supervisor | C5: Lumsum | D5: =ROUND(Personil!N7,0) -> 91228800 | E5: =11%*D5 -> 10035168 | F5: =D5+E5 -> 101263968
A6: 3 | B6: Petugas Taman | C6: Lumsum | D6: =ROUND(Personil!N8,0) -> 328942080 | E6: =11%*D6 -> 36183629 | F6: =D6+E6 -> 3.6512571e+08
A7: 4 | B7: Petugas Kebersihan | C7: Lumsum | D7: =ROUND(Personil!N9,0) -> 1233532800 | E7: =11%*D7 -> 135688608 | F7: =D7+E7 -> 1369221408
A8: 5 | B8: Petugas Climbing | C8: Lumsum | D8: =ROUND(Personil!N10,0) -> 169833480 | E8: =11%*D8 -> 18681683 | F8: =D8+E8 -> 1.8851516e+08
A9: 6 | B9: Pramubakti | C9: Lumsum | D9: =ROUND(Personil!N11,0) -> 904590720 | E9: =11%*D9 -> 99504979 | F9: =D9+E9 -> 1.0040957e+09
A10: 7 | B10: Chief Security | C10: Lumsum | D10: =ROUND(Personil!N12,0) -> 98723200 | E10: =11%*D10 -> 10859552 | F10: =D10+E10 -> 109582752
A11: 8 | B11: Danru Satpam | C11: Lumsum | D11: =ROUND(Personil!N13,0) -> 376906240 | E11: =11%*D11 -> 41459686 | F11: =D11+E11 -> 4.1836593e+08
A12: 9 | B12: Anggota Satpam | C12: Lumsum | D12: =ROUND(Personil!N14,0) -> 1794598400 | E12: =11%*D12 -> 197405824 | F12: =D12+E12 -> 1992004224
A13: 10 | B13: Pengemudi | C13: Lumsum | D13: =ROUND(Personil!N15,0) -> 1974058240 | E13: =11%*D13 -> 2.1714641e+08 | F13: =D13+E13 -> 2.1912046e+09
A14: 11 | B14: Teknisi Mekanikal Elekrtikal | C14: Lumsum | D14: =ROUND(Personil!N16,0) -> 760354560 | E14: =11%*D14 -> 83639002 | F14: =D14+E14 -> 8.4399356e+08
A15: 12 | B15: Teknisi Sipil | C15: Lumsum | D15: =ROUND(Personil!N17,0) -> 168967680 | E15: =11%*D15 -> 18586445 | F15: =D15+E15 -> 1.8755412e+08
C16: subtotal | D16: =SUM(D4:D15) -> 8068111880 | E16: =SUM(E4:E15) -> 8.8749231e+08 | F16: =D16+E16 -> 8.9556042e+09
A17: B | B17: PERLENGKAPAN KERJA
A18: 1 | B18: Resepsionis | C18: Lumsum | D18: =ROUND('Perlengkapan Kerja'!G4,0) -> 850000 | E18: =11%*D18 -> 93500 | F18: =D18+E18 -> 943500
A19: 2 | B19: Supervisor | C19: Lumsum | D19: =ROUND('Perlengkapan Kerja'!G5,0) -> 575000 | E19: =11%*D19 -> 63250 | F19: =D19+E19 -> 638250
A20: 3 | B20: Petugas Taman | C20: Lumsum | D20: =ROUND('Perlengkapan Kerja'!G6,0) -> 1700000 | E20: =11%*D20 -> 187000 | F20: =D20+E20 -> 1887000
A21: 4 | B21: Petugas Kebersihan | C21: Lumsum | D21: =ROUND('Perlengkapan Kerja'!G7,0) -> 6375000 | E21: =11%*D21 -> 701250 | F21: =D21+E21 -> 7076250
A22: 5 | B22: Petugas Climbing | C22: Lumsum | D22: =ROUND('Perlengkapan Kerja'!G8,0) -> 1150000 | E22: =11%*D22 -> 126500 | F22: =D22+E22 -> 1276500
A23: 6 | B23: Pramubakti | C23: Lumsum | D23: =ROUND('Perlengkapan Kerja'!G9,0) -> 4675000 | E23: =11%*D23 -> 514250 | F23: =D23+E23 -> 5189250
A24: 7 | B24: Chief Security | C24: Lumsum | D24: =ROUND('Perlengkapan Kerja'!G10,0) -> 775000 | E24: =11%*D24 -> 85250 | F24: =D24+E24 -> 860250
A25: 8 | B25: Danru Satpam | C25: Lumsum | D25: =ROUND('Perlengkapan Kerja'!G11,0) -> 2300000 | E25: =11%*D25 -> 253000 | F25: =D25+E25 -> 2553000
A26: 9 | B26: Anggota Satpam | C26: Lumsum | D26: =ROUND('Perlengkapan Kerja'!G12,0) -> 8500000 | E26: =11%*D26 -> 935000 | F26: =D26+E26 -> 9435000
A27: 10 | B27: Pengemudi | C27: Lumsum | D27: =ROUND('Perlengkapan Kerja'!G13,0) -> 11550000 | E27: =11%*D27 -> 1270500 | F27: =D27+E27 -> 12820500
A28: 11 | B28: Teknisi Mekanikal Elekrtikal | C28: Lumsum | D28: =ROUND('Perlengkapan Kerja'!G14,0) -> 4725000 | E28: =11%*D28 -> 519750 | F28: =D28+E28 -> 5244750
A29: 12 | B29: Teknisi Sipil | C29: Lumsum | D29: =ROUND('Perlengkapan Kerja'!G15,0) -> 1050000 | E29: =11%*D29 -> 115500 | F29: =D29+E29 -> 1165500
C30: subtotal | D30: =SUM(D18:D29) -> 44225000 | E30: =SUM(E18:E29) -> 4864750 | F30: =SUM(F18:F29) -> 49089750
A31: B | B31: PERLENGKAPAN, BAHAN, DAN
B32: SEWA ALAT KEBERSIHAN
A33: 1 | B33: Perlengkapan | C33: Satuan | D33: =ROUND(Kebersihan!I42,0) -> 27453000 | E33: =11%*D33 -> 3019830 | F33: =D33+E33 -> 30472830
A34: 2 | B34: Bahan | C34: Satuan | D34: =ROUND(Kebersihan!I72,0) -> 142326000 | E34: =11%*D34 -> 15655860 | F34: =D34+E34 -> 157981860
A35: 3 | B35: Sewa Alat | C35: Satuan | D35: =ROUND(Kebersihan!I82,0) -> 15899120 | E35: =11%*D35 -> 1748903.2 | F35: =D35+E35 -> 17648023
C36: subtotal | D36: =SUM(D33:D35) -> 185678120 | E36: =SUM(E33:E35) -> 20424593 | F36: =D36+E36 -> 2.0610271e+08
A37: C | B37: MANAGEMENT FEE | C37: Lumsum | D37: 100000000 | E37: =11%*D37 -> 11000000 | F37: =D37+E37 -> 111000000
C38: TOTAL BIAYA PEKERJAAN | D38: =D16+D30+D36+D37 -> 8398015000
C39: PPN 11% | D39: =D38*11% -> 923781650
C40: JUMLAH BIAYA TOTAL PER BULAN | D40: =D38+D39 -> 9321796650 | F40: =F16+F36+F37 -> 9272706900
D42: : masukkan penawaran pada cell berwarna hijau

Sheet Personil
A3: NO | B3: URAIAN | C3: Vol | D3: Sat | E3: Gaji Pokok dan Tunjangan | F3: Tunjangan Lain | L3: Harga Satuan Personil | M3: Harga Sebulan | N3: Harga Setahun
F4: Hari Keagamaan | G4: Kompensasi PKWT | H4: Lembur | I4: BPJS Kesehatan | J4: BPJS TK | K4: Total
A5: I | B5: PERSONIL
A6: 1 | B6: Resepsionis | C6: 2 | D6: Org | E6: 5550000 | F6: =E6/12 -> 462500 | G6: =E6/12 -> 462500 | H6: 0 | I6: =4%*E6 -> 222000 | J6: =4.24%*E6 -> 235320 | K6: =SUM(F6:J6) -> 1382320 | L6: =E6+K6 -> 6932320 | M6: =C6*L6 -> 13864640 | N6: =M6*12 -> 166375680
A7: 2 | B7: Supervisor | C7: 1 | D7: Org | E7: 6000000 | F7: =E7/12 -> 500000 | G7: =E7/12 -> 500000 | H7: =(26000*3)+30000 -> 108000 | I7: =4%*E7 -> 240000 | J7: =4.24%*E7 -> 254400 | K7: =SUM(F7:J7) -> 1602400 | L7: =E7+K7 -> 7602400 | M7: =C7*L7 -> 7602400 | N7: =M7*12 -> 91228800
A8: 3 | B8: Petugas Taman | C8: 4 | D8: Org | E8: 5400000 | F8: =E8/12 -> 450000 | G8: =E8/12 -> 450000 | H8: =(26000*3)+30000 -> 108000 | I8: =4%*E8 -> 216000 | J8: =4.24%*E8 -> 228960 | K8: =SUM(F8:J8) -> 1452960 | L8: =E8+K8 -> 6852960 | M8: =C8*L8 -> 27411840 | N8: =M8*12 -> 328942080
A9: 4 | B9: Petugas Kebersihan | C9: 15 | D9: Org | E9: 5400000 | F9: =E9/12 -> 450000 | G9: =E9/12 -> 450000 | H9: =(26000*3)+30000 -> 108000 | I9: =4%*E9 -> 216000 | J9: =4.24%*E9 -> 228960 | K9: =SUM(F9:J9) -> 1452960 | L9: =E9+K9 -> 6852960 | M9: =C9*L9 -> 102794400 | N9: =M9*12 -> 1233532800
A10: 5 | B10: Petugas Climbing | C10: 2 | D10: Org | E10: 5550000 | F10: =E10/12 -> 462500 | G10: =E10/12 -> 462500 | H10: =(26000*3)+30000 -> 108000 | I10: =4%*E10 -> 222000 | J10: =4.89%*E10 -> 271395 | K10: =SUM(F10:J10) -> 1526395 | L10: =E10+K10 -> 7076395 | M10: =C10*L10 -> 14152790 | N10: =M10*12 -> 169833480
A11: 6 | B11: Pramubakti | C11: 11 | D11: Org | E11: 5400000 | F11: =E11/12 -> 450000 | G11: =E11/12 -> 450000 | H11: =(26000*3)+30000 -> 108000 | I11: =4%*E11 -> 216000 | J11: =4.24%*E11 -> 228960 | K11: =SUM(F11:J11) -> 1452960 | L11: =E11+K11 -> 6852960 | M11: =C11*L11 -> 75382560 | N11: =M11*12 -> 904590720
A12: 7 | B12: Chief Security | C12: 1 | D12: Org | E12: 6500000 | F12: =E12/12 -> 541666.67 | G12: =E12/12 -> 541666.67 | H12: =(26000*3)+30000 -> 108000 | I12: =4%*E12 -> 260000 | J12: =4.24%*E12 -> 275600 | K12: =SUM(F12:J12) -> 1726933.3 | L12: =E12+K12 -> 8226933.3 | M12: =C12*L12 -> 8226933.3 | N12: =M12*12 -> 98723200
A13: 8 | B13: Danru Satpam | C13: 4 | D13: Org | E13: 6200000 | F13: =E13/12 -> 516666.67 | G13: =E13/12 -> 516666.67 | H13: =(26000*3)+30000 -> 108000 | I13: =4%*E13 -> 248000 | J13: =4.24%*E13 -> 262880 | K13: =SUM(F13:J13) -> 1652213.3 | L13: =E13+K13 -> 7852213.3 | M13: =C13*L13 -> 31408853 | N13: =M13*12 -> 376906240
A14: 9 | B14: Anggota Satpam | C14: 20 | D14: Org | E14: 5900000 | F14: =E14/12 -> 491666.67 | G14: =E14/12 -> 491666.67 | H14: =(26000*3)+30000 -> 108000 | I14: =4%*E14 -> 236000 | J14: =4.24%*E14 -> 250160 | K14: =SUM(F14:J14) -> 1577493.3 | L14: =E14+K14 -> 7477493.3 | M14: =C14*L14 -> 1.4954987e+08 | N14: =M14*12 -> 1.7945984e+09
A15: 10 | B15: Pengemudi | C15: 22 | D15: Org | E15: 5900000 | F15: =E15/12 -> 491666.67 | G15: =E15/12 -> 491666.67 | H15: =(26000*3)+30000 -> 108000 | I15: =4%*E15 -> 236000 | J15: =4.24%*E15 -> 250160 | K15: =SUM(F15:J15) -> 1577493.3 | L15: =E15+K15 -> 7477493.3 | M15: =C15*L15 -> 1.6450485e+08 | N15: =M15*12 -> 1974058240
A16: 11 | B16: Teknisi Mekanikal Elekrtikal | C16: 9 | D16: Org | E16: 5550000 | F16: =E16/12 -> 462500 | G16: =E16/12 -> 462500 | H16: =(26000*3)+30000 -> 108000 | I16: =4%*E16 -> 222000 | J16: =4.24%*E16 -> 235320 | K16: =SUM(F16:J16) -> 1490320 | L16: =E16+K16 -> 7040320 | M16: =C16*L16 -> 63362880 | N16: =M16*12 -> 760354560
A17: 12 | B17: Teknisi Sipil | C17: 2 | D17: Org | E17: 5550000 | F17: =E17/12 -> 462500 | G17: =E17/12 -> 462500 | H17: =(26000*3)+30000 -> 108000 | I17: =4%*E17 -> 222000 | J17: =4.24%*E17 -> 235320 | K17: =SUM(F17:J17) -> 1490320 | L17: =E17+K17 -> 7040320 | M17: =C17*L17 -> 14080640 | N17: =M17*12 -> 168967680
B18: Sub Total | C18: =SUM(C6:C17) -> 93 | D18: Org | M18: =SUM(M6:M17) -> 6.7234266e+08 | N18: =SUM(N6:N17) -> 8068111880

Sheet Perlengkapan Kerja
A2: NO | B2: Jabatan | C2: Jumlah Personil | D2: Seragam (Atasan + Bawahan) (2 stel) | E2: Sepatu (1 pasang) | F2: ID Card/Tanda Pengenal (1 Pcs) | G2: Jumlah
A4: 1 | B4: Resepsionis | C4: 2 | D4: 300000 | E4: 100000 | F4: 25000 | G4: =SUM(D4:F4)*C4 -> 850000
A5: 2 | B5: Supervisor | C5: 1 | D5: 400000 | E5: 150000 | F5: 25000 | G5: =SUM(D5:F5)*C5 -> 575000
A6: 3 | B6: Petugas Taman | C6: 4 | D6: 300000 | E6: 100000 | F6: 25000 | G6: =SUM(D6:F6)*C6 -> 1700000
A7: 4 | B7: Petugas Kebersihan | C7: 15 | D7: 300000 | E7: 100000 | F7: 25000 | G7: =SUM(D7:F7)*C7 -> 6375000
A8: 5 | B8: Petugas Climbing | C8: 2 | D8: 400000 | E8: 150000 | F8: 25000 | G8: =SUM(D8:F8)*C8 -> 1150000
A9: 6 | B9: Pramubakti | C9: 11 | D9: 300000 | E9: 100000 | F9: 25000 | G9: =SUM(D9:F9)*C9 -> 4675000
A10: 7 | B10: Chief Security* | C10: 1 | D10: 600000 | E10: 150000 | F10: 25000 | G10: =SUM(D10:F10)*C10 -> 775000
A11: 8 | B11: Danru Satpam** | C11: 4 | D11: 400000 | E11: 150000 | F11: 25000 | G11: =SUM(D11:F11)*C11 -> 2300000
A12: 9 | B12: Anggota Satpam** | C12: 20 | D12: 300000 | E12: 100000 | F12: 25000 | G12: =SUM(D12:F12)*C12 -> 8500000
A13: 10 | B13: Pengemudi | C13: 22 | D13: 400000 | E13: 100000 | F13: 25000 | G13: =SUM(D13:F13)*C13 -> 11550000
A14: 11 | B14: Teknisi Mekanikal Elekrtikal | C14: 9 | D14: 400000 | E14: 100000 | F14: 25000 | G14: =SUM(D14:F14)*C14 -> 4725000
A15: 12 | B15: Teknisi Sipil | C15: 2 | D15: 400000 | E15: 100000 | F15: 25000 | G15: =SUM(D15:F15)*C15 -> 1050000
F16: Total | G16: =SUM(G4:G15) -> 44225000
E17: : masukkan penawaran pada cell berwarna hijau
A19: *) Seragam Safari untuk Chief (2 baju dan celana, 2 pin nama, 2 pin logo, 1 pasang sepatu pantofel, 2 pasang kaos kaki, dan 2 buah kaos lapangan)
A20: sesuai Standar Peraturan Polri No. 4 Tahun 2020
A21: **) Seragam PDL untuk Chief (2 baju dan celana, 2 atribut bordir, 1 pasang sepatu PDL, 1 buah kopel, 1 buah ikat pinggang, 1 buah tali kurt,
A22: 1 buah peluit, 1 buah topi, 2 kaos lapangan dan 2 pasang kaos kaki) sesuai Standar Peraturan Polri No. 4 Tahun 2020

Sheet Kebersihan
A1: No | B1: Nama Barang | C1: Satuan | D1: Volume | G1: Harga Satuan | H1: Harga Sebulan | I1: Harga Setahun
D2: Vol 1 | E2: Vol 2 | F2: Total Vol
A3: A | B3: Perlengkapan Kebersihan
A4: 1 | B4: Pad coklat 17" (merk 3M) | C4: Buah | D4: 1 | E4: 4 | F4: =D4*E4 -> 4 | G4: 60000 | H4: =F4*G4/12 -> 20000 | I4: =F4*G4 -> 240000
A5: 2 | B5: Pad Merah / Putih 17" (merk 3M) | C5: Buah | D5: 5 | E5: 4 | F5: =D5*E5 -> 20 | G5: 60000 | H5: =F5*G5/12 -> 100000 | I5: =F5*G5 -> 1200000
A6: 3 | B6: Kain Lap Kanebo (Kenmaster/3M) | C6: Buah | D6: 16 | E6: 6 | F6: =D6*E6 -> 96 | G6: 15000 | H6: =F6*G6/12 -> 120000 | I6: =F6*G6 -> 1440000
A7: 4 | B7: Kape 2" | C7: Buah | D7: 6 | E7: 12 | F7: =D7*E7 -> 72 | G7: 2500 | H7: =F7*G7/12 -> 15000 | I7: =F7*G7 -> 180000
A8: 5 | B8: Kemoceng | C8: Buah | D8: 6 | E8: 2 | F8: =D8*E8 -> 12 | G8: 8000 | H8: =F8*G8/12 -> 8000 | I8: =F8*G8 -> 96000
A9: 6 | B9: Tapas | C9: Lusin | D9: 6 | E9: 12 | F9: =D9*E9 -> 72 | G9: 9000 | H9: =F9*G9/12 -> 54000 | I9: =F9*G9 -> 648000
A10: 7 | B10: Kain Lap Microfibre | C10: Buah | D10: 24 | E10: 12 | F10: =D10*E10 -> 288 | G10: 5000 | H10: =F10*G10/12 -> 120000 | I10: =F10*G10 -> 1440000
A11: 8 | B11: Lap Majun | C11: Kg | D11: 3 | E11: 12 | F11: =D11*E11 -> 36 | G11: 12500 | H11: =F11*G11/12 -> 37500 | I11: =F11*G11 -> 450000
A12: 9 | B12: Dust mop Acrylic 60 cm complete | C12: Set | D12: 7 | E12: 2 | F12: =D12*E12 -> 14 | G12: 75000 | H12: =F12*G12/12 -> 87500 | I12: =F12*G12 -> 1050000
A13: 10 | B13: Dust mop Acrylic 80 cm complete | C13: Set | D13: 8 | E13: 2 | F13: =D13*E13 -> 16 | G13: 90000 | H13: =F13*G13/12 -> 120000 | I13: =F13*G13 -> 1440000
A14: 11 | B14: Mop Set, tangkai alumunium | C14: Buah | D14: 9 | E14: 2 | F14: =D14*E14 -> 18 | G14: 55000 | H14: =F14*G14/12 -> 82500 | I14: =F14*G14 -> 990000
A15: 12 | B15: Pad holder 17" | C15: Buah | D15: 1 | E15: 2 | F15: =D15*E15 -> 2 | G15: 225000 | H15: =F15*G15/12 -> 37500 | I15: =F15*G15 -> 450000
... A41: 39 | B41: Telescopic Pole/Longstick ( 2m x 3 = 6 meter) | C41: Buah | D41: 3 | E41: 1 | F41: =D41*E41 -> 3 | G41: 175000 | H41: =F41*G41/12 -> 43750 | I41: =F41*G41 -> 525000
A42: Subtotal Harga Perlengkapan Kebersihan | H42: =SUM(H4:H41) -> 2287750 | I42: =SUM(I4:I41) -> 27453000
A43: B | B43: Bahan Kebersihan
A44: 1 | B44: Pengharum Ruangan Spray (merek bayfresh/setara; 320ml) | C44: kaleng | D44: 24 | E44: 12 | F44: =D44*E44 -> 288 | G44: 20000 | H44: =F44*G44/12 -> 480000 | I44: =F44*G44 -> 5760000
A45: 2 | B45: Semprot Nyamuk (merek baygon/hit/setara; 675ml) | C45: kaleng | D45: 12 | E45: 12 | F45: =D45*E45 -> 144 | G45: 27500 | H45: =F45*G45/12 -> 330000 | I45: =F45*G45 -> 3960000
A46: 3 | B46: Pengharum Ruangan Gantung (Dahlia/Glade/Setara; 70 gram) | C46: pack | D46: 15 | E46: 12 | F46: =D46*E46 -> 180 | G46: 11500 | H46: =F46*G46/12 -> 172500 | I46: =F46*G46 -> 2070000
A47: 4 | B47: Tissue Facial (merek Jolly 2 ply 250 sheets) | C47: pcs | D47: =48*3 -> 144 | E47: 12 | F47: =D47*E47 -> 1728 | G47: 8000 | H47: =F47*G47/12 -> 1152000 | I47: =F47*G47 -> 13824000
A48: 5 | B48: Tissue Roll (merek Tessa 2 ply 328 sheets; 6 rolls/pack) | C48: pack | D48: 120 | E48: 12 | F48: =D48*E48 -> 1440 | G48: 20000 | H48: =F48*G48/12 -> 2400000 | I48: =F48*G48 -> 28800000
A49: 6 | B49: Tissue Hand Towel (merek Livi 1 ply 150 sheets; 24 pcs/pack) | C49: pack | D49: =360/24 -> 15 | E49: 12 | F49: =D49*E49 -> 180 | G49: 9000 | H49: =F49*G49/12 -> 135000 | I49: =F49*G49 -> 1620000
A50: 7 | B50: Floorcleaner (merek Johnson; 4L) | C50: Galon | D50: 12 | E50: 12 | F50: =D50*E50 -> 144 | G50: 85000 | H50: =F50*G50/12 -> 1020000 | I50: =F50*G50 -> 12240000
A51: 8 | B51: Glass Cleaner (merek Cling/Mr. Muscle/setara; 4L) | C51: Galon | D51: 6 | E51: 12 | F51: =D51*E51 -> 72 | G51: 58000 | H51: =F51*G51/12 -> 348000 | I51: =F51*G51 -> 4176000
A52: 9 | B52: Kamper Bola Gantung (merek Swallow/Dahlia; 2pcs/pack; 150gr) | C52: pack | D52: 20 | E52: 12 | F52: =D52*E52 -> 240 | G52: 25500 | H52: =F52*G52/12 -> 510000 | I52: =F52*G52 -> 6120000
A53: 10 | B53: Bubuk Pembersih Serbaguna (merek metachem 1 Kg) | C53: botol | D53: 8 | E53: 12 | F53: =D53*E53 -> 96 | G53: 22500 | H53: =F53*G53/12 -> 180000 | I53: =F53*G53 -> 2160000
A54: 11 | B54: Rugbee Shampoo Karpet (merek Jhonson; 4L) | C54: Galon | D54: 1 | E54: 12 | F54: =D54*E54 -> 12 | G54: 155000 | H54: =F54*G54/12 -> 155000 | I54: =F54*G54 -> 1860000
A55: 12 | B55: HDSSR (Merek Jhonson; 4L) | C55: kaleng | D55: 1 | E55: 6 | F55: =D55*E55 -> 6 | G55: 375000 | H55: =F55*G55/12 -> 187500 | I55: =F55*G55 -> 2250000
A56: 13 | B56: Detergen Bubuk (merek Attack/setara; 1,5 kg) | C56: bungkus | D56: 10 | E56: 12 | F56: =D56*E56 -> 120 | G56: 27000 | H56: =F56*G56/12 -> 270000 | I56: =F56*G56 -> 3240000
A57: 14 | B57: Furniture Polish Liquid (merek Pledge; 410ml) | C57: bungkus | D57: 12 | E57: 12 | F57: =D57*E57 -> 144 | G57: 27500 | H57: =F57*G57/12 -> 330000 | I57: =F57*G57 -> 3960000
A58: 15 | B58: Furniture Polish Oil (merek Pledge; 170ml) | C58: botol | D58: 7 | E58: 12 | F58: =D58*E58 -> 84 | G58: 16500 | H58: =F58*G58/12 -> 115500 | I58: =F58*G58 -> 1386000
A59: 16 | B59: Glo Metal Polish (Merek Johnson; 2L) | C59: Galon | D59: 1 | E59: 12 | F59: =D59*E59 -> 12 | G59: 325000 | H59: =F59*G59/12 -> 325000 | I59: =F59*G59 -> 3900000
A60: 17 | B60: Marble Polish Powder (Merek Extra/setara; 1kg) | C60: Botol | D60: 1 | E60: 12 | F60: =D60*E60 -> 12 | G60: 135000 | H60: =F60*G60/12 -> 135000 | I60: =F60*G60 -> 1620000
A61: 18 | B61: Marble Klin (Merek Johnson; 4 Liter) | C61: Galon | D61: 1 | E61: 12 | F61: =D61*E61 -> 12 | G61: 145000 | H61: =F61*G61/12 -> 145000 | I61: =F61*G61 -> 1740000
... A71: 28 | B71: Sabun cuci tangan (merek SOS; 4L) | C71: Galon | D71: 3 | E71: 12 | F71: =D71*E71 -> 36 | G71: 65000 | H71: =F71*G71/12 -> 195000 | I71: =F71*G71 -> 2340000
A72: Subtotal Harga Bahan Kebersihan | H72: =SUM(H44:H71) -> 11860500 | I72: =SUM(I44:I71) -> 142326000
A73: C | B73: Sewa Alat Kebersihan
A74: 1 | B74: Vacuum Wet and Dry Cleaner (15 Liter) (merek karcher/krisbow/setara) | C74: Unit | D74: 6 | E74: 12 | F74: =D74*E74 -> 72 | G74: 75000 | H74: =F74*G74/12 -> 450000 | I74: =F74*G74 -> 5400000
A75: 2 | B75: Carpet Vacuum Extractor (merek karcher/krisbow/setara) | C75: Unit | D75: 1 | E75: 12 | F75: =D75*E75 -> 12 | G75: 149926.67 | H75: =F75*G75/12 -> 149926.67 | I75: =F75*G75 -> 1799120
A76: 3 | B76: Blower Karpet (Merek Krisbow/Minutemen/setara) | C76: Unit | D76: 2 | E76: 12 | F76: =D76*E76 -> 24 | G76: 50000 | H76: =F76*G76/12 -> 100000 | I76: =F76*G76 -> 1200000
A77: 4 | B77: Vacuum Dry Cleaner (3 Liter) (Merek Krisbow/setara) | C77: Unit | D77: 1 | E77: 12 | F77: =D77*E77 -> 12 | G77: 50000 | H77: =F77*G77/12 -> 50000 | I77: =F77*G77 -> 600000
A78: 5 | B78: Mesin Poles Lantai (Low Speed) 17" (merek karcher/krisbow) | C78: Unit | D78: 2 | E78: 12 | F78: =D78*E78 -> 24 | G78: 150000 | H78: =F78*G78/12 -> 300000 | I78: =F78*G78 -> 3600000
A79: 6 | B79: Mesin Penyemprot Air Tekanan Tinggi (Max. Pressure 140 Bar) | C79: Unit | D79: 1 | E79: 12 | F79: =D79*E79 -> 12 | G79: 50000 | H79: =F79*G79/12 -> 50000 | I79: =F79*G79 -> 600000
A80: 7 | B80: Single Bucket Mop Wringer (20 Liter) | C80: Unit | D80: 6 | E80: 12 | F80: =D80*E80 -> 72 | G80: 25000 | H80: =F80*G80/12 -> 150000 | I80: =F80*G80 -> 1800000
A81: 8 | B81: Troli Prestar NG 401 500kg | C81: Unit | D81: 3 | E81: 12 | F81: =D81*E81 -> 36 | G81: 25000 | H81: =F81*G81/12 -> 75000 | I81: =F81*G81 -> 900000
A82: Subtotal Sewa Alat Kebersihan | H82: =SUM(H74:H81) -> 1324926.7 | I82: =SUM(I74:I81) -> 15899120
A83: Total Keseluruhan | H83: =H42+H72+H82 -> 15473177 | I83: =I42+I72+I82 -> 1.8567812e+08
H85: : masukkan penawaran pada cell berwarna hijau

Sheet Sheet1
A1: No. | B1: item | C1: 2024 | H1: 2025
C2: Volume | F2: Harga Satuan | G2: Jumlah | H2: Volume | K2: Harga Satuan | L2: Jumlah
C3: Orang | D3: Bulan/ Kali | E3: Total | H3: Orang | I3: Bulan/Kali | J3: Total
A4: A | B4: Upah | G4: =SUM(G5:G14) -> 3608160000 | L4: =SUM(L5:L14) -> 6702180000 | N4: NB:
A5: 1 | B5: Resepsionis | C5: 1 | D5: 12 | E5: =C5*D5 -> 12 | F5: 5250000 | G5: =E5*F5 -> 63000000 | H5: 2 | I5: 12 | J5: =H5*I5 -> 24 | K5: 5250000 | L5: =J5*K5 -> 126000000 | N5: 1. | O5: Gaji 2025 masih berdasarkan asumsi SBM 2024
A6: 2 | B6: Supervisor | C6: 1 | D6: 12 | E6: =C6*D6 -> 12 | F6: 5750000 | G6: =E6*F6 -> 69000000 | H6: 2 | I6: 12 | J6: =H6*I6 -> 24 | K6: 5750000 | L6: =J6*K6 -> 138000000
A7: 3 | B7: Petugas Taman | C7: 4 | D7: 12 | E7: =C7*D7 -> 48 | F7: 5104000 | G7: =E7*F7 -> 244992000 | H7: 4 | I7: 12 | J7: =H7*I7 -> 48 | K7: 5104000 | L7: =J7*K7 -> 244992000 | N7: Pembagian Tugas Pramubakti
A8: 4 | B8: Petugas Kebersihan | C8: 19 | D8: 12 | E8: =C8*D8 -> 228 | F8: 5104000 | G8: =E8*F8 -> 1163712000 | H8: 19 | I8: 12 | J8: =H8*I8 -> 228 | K8: 5104000 | L8: =J8*K8 -> 1163712000 | O8: Lantai | P8: Taman | Q8: Kebersihan | R8: Pramubakti
A9: 5 | B9: Pramubakti | C9: 7 | D9: 12 | E9: =C9*D9 -> 84 | F9: 5104000 | G9: =E9*F9 -> 428736000 | H9: 7 | I9: 12 | J9: =H9*I9 -> 84 | K9: 5104000 | L9: =J9*K9 -> 428736000 | O9: Basement & Lapangan | P9: 4 | Q9: 3 | R9: 0
A10: 6 | B10: Koord. Satpam | C10: 1 | D10: 12 | E10: =C10*D10 -> 12 | F10: 6215000 | G10: =E10*F10 -> 74580000 | H10: 1 | I10: 12 | J10: =H10*I10 -> 12 | K10: 6215000 | L10: =J10*K10 -> 74580000 | O10: 1 | P10: 0 | Q10: 1 | R10: 1
A11: 7 | B11: Danru Satpam | C11: 4 | D11: 12 | E11: =C11*D11 -> 48 | F11: 5915000 | G11: =E11*F11 -> 283920000 | H11: 4 | I11: 12 | J11: =H11*I11 -> 48 | K11: 5915000 | L11: =J11*K11 -> 283920000 | O11: 1B | P11: 0 | Q11: 2 | R11: 0
A12: 8 | B12: Anggota Satpam | C12: 19 | D12: 12 | E12: =C12*D12 -> 228 | F12: 5615000 | G12: =E12*F12 -> 1280220000 | H12: 23 | I12: 12 | J12: =H12*I12 -> 276 | K12: 5615000 | L12: =J12*K12 -> 1549740000 | O12: 2 | P12: 0 | Q12: 3 | R12: 1
A13: 9 | B13: Pengemudi | C13: 0 | D13: 12 | E13: =C13*D13 -> 0 | F13: 0 | G13: =E13*F13 -> 0 | H13: 25 | I13: 12 | J13: =H13*I13 -> 300 | K13: 5615000 | L13: =J13*K13 -> 1684500000 | O13: 3 | P13: 0 | Q13: 3 | R13: 1
A14: 10 | B14: Teknisi | C14: 0 | D14: 12 | E14: =C14*D14 -> 0 | F14: 0 | G14: =E14*F14 -> 0 | H14: 16 | I14: 12 | J14: =H14*I14 -> 192 | K14: 5250000 | L14: =J14*K14 -> 1008000000 | O14: 4 | P14: 0 | Q14: 3 | R14: 1
A15: B | B15: Non Upah | O15: 5 | P15: 0 | Q15: 1 | R15: 1
A16: i | B16: Lembur | G16: =SUM(G17:G26) -> 1.4515347e+08 | L16: =SUM(L17:L26) -> 2.7441488e+08 | O16: 6 | P16: 0 | Q16: 2 | R16: 1
A17: 1 | B17: Resepsionis | C17: =C5 -> 1 | D17: 0 | E17: =C17*D17 -> 0 | F17: =F5/173*17*5/12 -> 214956.65 | G17: =E17*F17 -> 0 | H17: =H5 -> 2 | I17: 12 | J17: =H17*I17 -> 24 | K17: =K5/173*17*5/12 -> 214956.65 | L17: =J17*K17 -> 5158959.5 | O17: Wisma Mandiri | P17: 0 | Q17: 1 | R17: 1
A18: 2 | B18: Supervisor | C18: =C6 -> 1 | D18: 12 | E18: =C18*D18 -> 12 | F18: =F6/173*17*5/12 -> 235428.71 | G18: =E18*F18 -> 2825144.5 | H18: =H6 -> 2 | I18: 12 | J18: =H18*I18 -> 24 | K18: =K6/173*17*5/12 -> 235428.71 | L18: =J18*K18 -> 5650289 | O18: TOTAL | P18: =SUM(P9:P17) -> 4 | Q18: =SUM(Q9:Q17) -> 19 | R18: =SUM(R9:R17) -> 7
A19: 3 | B19: Petugas Taman | C19: =C7 -> 4 | D19: 12 | E19: =C19*D19 -> 48 | F19: =F7/173*17*5/12 -> 208978.81 | G19: =E19*F19 -> 10030983 | H19: =H7 -> 4 | I19: 12 | J19: =H19*I19 -> 48 | K19: =K7/173*17*5/12 -> 208978.81 | L19: =J19*K19 -> 10030983
A20: 4 | B20: Petugas Kebersihan | C20: =C8 -> 19 | D20: 12 | E20: =C20*D20 -> 228 | F20: =F8/173*17*5/12 -> 208978.81 | G20: =E20*F20 -> 47647168 | H20: =H8 -> 19 | I20: 12 | J20: =H20*I20 -> 228 | K20: =K8/173*17*5/12 -> 208978.81 | L20: =J20*K20 -> 47647168 | N20: Pembagian Tugas Satpam
A21: 5 | B21: Pramubakti | C21: =C9 -> 7 | D21: 12 | E21: =C21*D21 -> 84 | F21: =F9/173*17*5/12 -> 208978.81 | G21: =E21*F21 -> 17554220 | H21: =H9 -> 7 | I21: 12 | J21: =H21*I21 -> 84 | K21: =K9/173*17*5/12 -> 208978.81 | L21: =J21*K21 -> 17554220 | O21: Tugas | P21: Jumlah | Q21: Keterangan
A22: 6 | B22: Koord. Satpam | C22: =C10 -> 1 | D22: 12 | E22: =C22*D22 -> 12 | F22: =F10/173*17*5/12 -> 254467.73 | G22: =E22*F22 -> 3053612.7 | H22: =H10 -> 1 | I22: 12 | J22: =H22*I22 -> 12 | K22: =K10/173*17*5/12 -> 254467.73 | L22: =J22*K22 -> 3053612.7 | O22: Komandan Regu | P22: 4 | Q22: Dibagi menjadi 4 regu
A23: 7 | B23: Danru Satpam | C23: =C11 -> 4 | D23: 12 | E23: =C23*D23 -> 48 | F23: =F11/173*17*5/12 -> 242184.49 | G23: =E23*F23 -> 11624855 | H23: =H11 -> 4 | I23: 12 | J23: =H23*I23 -> 48 | K23: =K11/173*17*5/12 -> 242184.49 | L23: =J23*K23 -> 11624855 | O23: Anggota Regu | P23: =4*4 -> 16 | Q23: 4 orang per regu
A24: 8 | B24: Anggota Satpam | C24: =C12 -> 19 | D24: 12 | E24: =C24*D24 -> 228 | F24: =F12/173*17*5/12 -> 229901.25 | G24: =E24*F24 -> 52417486 | H24: =H12 -> 23 | I24: 12 | J24: =H24*I24 -> 276 | K24: =K12/173*17*5/12 -> 229901.25 | L24: =J24*K24 -> 63452746 | O24: Anggota non-Regu | P24: 7 | Q24: dirolling bergantian setiap bulan antara regu dan non regu
A25: 9 | B25: Pengemudi | C25: =C13 -> 0 | D25: 12 | E25: =C25*D25 -> 0 | F25: =F13/173*17*5/12 -> 0 | G25: =E25*F25 -> 0 | H25: =H13 -> 25 | I25: 12 | J25: =H25*I25 -> 300 | K25: =K13/173*17*5/12 -> 229901.25 | L25: =J25*K25 -> 68970376 | O25: TOTAL | P25: =SUM(P22:P24) -> 27
A26: 10 | B26: Teknisi | C26: =C14 -> 0 | D26: 12 | E26: =C26*D26 -> 0 | F26: =F14/173*17*5/12 -> 0 | G26: =E26*F26 -> 0 | H26: =H14 -> 16 | I26: 12 | J26: =H26*I26 -> 192 | K26: =K14/173*17*5/12 -> 214956.65 | L26: =J26*K26 -> 41271676
A27: ii | B27: BPJS Kesehatan ditanggung pemberi kerja 4% | G27: =SUM(G28:G37) -> 144326400 | L27: =SUM(L28:L37) -> 268087200 | N27: Pembagian Tugas Driver
A28: 1 | B28: Resepsionis | C28: =C5 -> 1 | D28: 12 | E28: =C28*D28 -> 12 | F28: =4%*F5 -> 210000 | G28: =E28*F28 -> 2520000 | H28: =H5 -> 2 | I28: 12 | J28: =H28*I28 -> 24 | K28: =4%*K5 -> 210000 | L28: =J28*K28 -> 5040000 | O28: Tugas | P28: Jumlah | Q28: Keterangan
A29: 2 | B29: Supervisor | C29: =C6 -> 1 | D29: 12 | E29: =C29*D29 -> 12 | F29: =4%*F6 -> 230000 | G29: =E29*F29 -> 2760000 | H29: =H6 -> 2 | I29: 12 | J29: =H29*I29 -> 24 | K29: =4%*K6 -> 230000 | L29: =J29*K29 -> 5520000 | O29: Eselon I dan Kepala | P29: 5
A30: 3 | B30: Petugas Taman | C30: =C7 -> 4 | D30: 12 | E30: =C30*D30 -> 48 | F30: =4%*F7 -> 204160 | G30: =E30*F30 -> 9799680 | H30: =H7 -> 4 | I30: 12 | J30: =H30*I30 -> 48 | K30: =4%*K7 -> 204160 | L30: =J30*K30 -> 9799680 | O30: Eselon II | P30: 15 | Q30: belum menghitung 2 Tenaga Ahli
A31: 4 | B31: Petugas Kebersihan | C31: =C8 -> 19 | D31: 12 | E31: =C31*D31 -> 228 | F31: =4%*F8 -> 204160 | G31: =E31*F31 -> 46548480 | H31: =H8 -> 19 | I31: 12 | J31: =H31*I31 -> 228 | K31: =4%*K8 -> 204160 | L31: =J31*K31 -> 46548480 | O31: Antar Jemput+Operasional | P31: 5
A32: 5 | B32: Pramubakti | C32: =C9 -> 7 | D32: 12 | E32: =C32*D32 -> 84 | F32: =4%*F9 -> 204160 | G32: =E32*F32 -> 17149440 | H32: =H9 -> 7 | I32: 12 | J32: =H32*I32 -> 84 | K32: =4%*K9 -> 204160 | L32: =J32*K32 -> 17149440 | O32: TOTAL | P32: =SUM(P29:P31) -> 25
A33: 6 | B33: Koord. Satpam | C33: =C10 -> 1 | D33: 12 | E33: =C33*D33 -> 12 | F33: =4%*F10 -> 248600 | G33: =E33*F33 -> 2983200 | H33: =H10 -> 1 | I33: 12 | J33: =H33*I33 -> 12 | K33: =4%*K10 -> 248600 | L33: =J33*K33 -> 2983200
A34: 7 | B34: Danru Satpam | C34: =C11 -> 4 | D34: 12 | E34: =C34*D34 -> 48 | F34: =4%*F11 -> 236600 | G34: =E34*F34 -> 11356800 | H34: =H11 -> 4 | I34: 12 | J34: =H34*I34 -> 48 | K34: =4%*K11 -> 236600 | L34: =J34*K34 -> 11356800 | N34: Pembagian Tugas Teknisi
A35: 8 | B35: Anggota Satpam | C35: =C12 -> 19 | D35: 12 | E35: =C35*D35 -> 228 | F35: =4%*F12 -> 224600 | G35: =E35*F35 -> 51208800 | H35: =H12 -> 23 | I35: 12 | J35: =H35*I35 -> 276 | K35: =4%*K12 -> 224600 | L35: =J35*K35 -> 61989600 | O35: Tugas | P35: Jumlah | Q35: Keterangan
A36: 9 | B36: Pengemudi | C36: =C13 -> 0 | D36: 12 | E36: =C36*D36 -> 0 | F36: =4%*F13 -> 0 | G36: =E36*F36 -> 0 | H36: =H13 -> 25 | I36: 12 | J36: =H36*I36 -> 300 | K36: =4%*K13 -> 224600 | L36: =J36*K36 -> 67380000 | O36: M/E | P36: .... | Q36: ....
A37: 10 | B37: Teknisi | C37: =C14 -> 0 | D37: 12 | E37: =C37*D37 -> 0 | F37: =4%*F14 -> 0 | G37: =E37*F37 -> 0 | H37: =H14 -> 16 | I37: 12 | J37: =H37*I37 -> 192 | K37: =4%*K14 -> 210000 | L37: =J37*K37 -> 40320000 | O37: Sipil | P37: .... | Q37: ....
A38: iii | B38: BPJS Ketenagakerjaan ditanggung pemberi kerja 4,24% | G38: =SUM(G39:G48) -> 0 | L38: =SUM(L39:L48) -> 284172432 | O38: TOTAL | P38: ....
A39: 1 | B39: Resepsionis | C39: =C5 -> 1 | D39: 0 | E39: =C39*D39 -> 0 | F39: =4.24%*F5 -> 222600 | G39: =E39*F39 -> 0 | H39: =H5 -> 2 | I39: 12 | J39: =H39*I39 -> 24 | K39: =4.24%*K5 -> 222600 | L39: =J39*K39 -> 5342400
A40: 2 | B40: Supervisor | C40: =C6 -> 1 | D40: 0 | E40: =C40*D40 -> 0 | F40: =4.24%*F6 -> 243800 | G40: =E40*F40 -> 0 | H40: =H6 -> 2 | I40: 12 | J40: =H40*I40 -> 24 | K40: =4.24%*K6 -> 243800 | L40: =J40*K40 -> 5851200
A41: 3 | B41: Petugas Taman | C41: =C7 -> 4 | D41: 0 | E41: =C41*D41 -> 0 | F41: =4.24%*F7 -> 216409.6 | G41: =E41*F41 -> 0 | H41: =H7 -> 4 | I41: 12 | J41: =H41*I41 -> 48 | K41: =4.24%*K7 -> 216409.6 | L41: =J41*K41 -> 10387661
A42: 4 | B42: Petugas Kebersihan | C42: =C8 -> 19 | D42: 0 | E42: =C42*D42 -> 0 | F42: =4.24%*F8 -> 216409.6 | G42: =E42*F42 -> 0 | H42: =H8 -> 19 | I42: 12 | J42: =H42*I42 -> 228 | K42: =4.24%*K8 -> 216409.6 | L42: =J42*K42 -> 49341389
A43: 5 | B43: Pramubakti | C43: =C9 -> 7 | D43: 0 | E43: =C43*D43 -> 0 | F43: =4.24%*F9 -> 216409.6 | G43: =E43*F43 -> 0 | H43: =H9 -> 7 | I43: 12 | J43: =H43*I43 -> 84 | K43: =4.24%*K9 -> 216409.6 | L43: =J43*K43 -> 18178406
A44: 6 | B44: Koord. Satpam | C44: =C10 -> 1 | D44: 0 | E44: =C44*D44 -> 0 | F44: =4.24%*F10 -> 263516 | G44: =E44*F44 -> 0 | H44: =H10 -> 1 | I44: 12 | J44: =H44*I44 -> 12 | K44: =4.24%*K10 -> 263516 | L44: =J44*K44 -> 3162192
A45: 7 | B45: Danru Satpam | C45: =C11 -> 4 | D45: 0 | E45: =C45*D45 -> 0 | F45: =4.24%*F11 -> 250796 | G45: =E45*F45 -> 0 | H45: =H11 -> 4 | I45: 12 | J45: =H45*I45 -> 48 | K45: =4.24%*K11 -> 250796 | L45: =J45*K45 -> 12038208
A46: 8 | B46: Anggota Satpam | C46: =C12 -> 19 | D46: 0 | E46: =C46*D46 -> 0 | F46: =4.24%*F12 -> 238076 | G46: =E46*F46 -> 0 | H46: =H12 -> 23 | I46: 12 | J46: =H46*I46 -> 276 | K46: =4.24%*K12 -> 238076 | L46: =J46*K46 -> 65708976
A47: 9 | B47: Pengemudi | C47: =C13 -> 0 | D47: 0 | E47: =C47*D47 -> 0 | F47: =4.24%*F13 -> 0 | G47: =E47*F47 -> 0 | H47: =H13 -> 25 | I47: 12 | J47: =H47*I47 -> 300 | K47: =4.24%*K13 -> 238076 | L47: =J47*K47 -> 71422800
A48: 10 | B48: Teknisi | C48: =C14 -> 0 | D48: 0 | E48: =C48*D48 -> 0 | F48: =4.24%*F14 -> 0 | G48: =E48*F48 -> 0 | H48: =H14 -> 16 | I48: 12 | J48: =H48*I48 -> 192 | K48: =4.24%*K14 -> 222600 | L48: =J48*K48 -> 42739200
A49: iv | B49: Tunjangan Hari Raya | G49: =SUM(G50:G59) -> 300680000 | L49: =SUM(L50:L59) -> 558515000
A50: 1 | B50: Resepsionis | C50: =C5 -> 1 | D50: 1 | E50: =C50*D50 -> 1 | F50: =F5 -> 5250000 | G50: =E50*F50 -> 5250000 | H50: =H5 -> 2 | I50: 1 | J50: =H50*I50 -> 2 | K50: =K5 -> 5250000 | L50: =J50*K50 -> 10500000
A51: 2 | B51: Supervisor | C51: =C6 -> 1 | D51: 1 | E51: =C51*D51 -> 1 | F51: =F6 -> 5750000 | G51: =E51*F51 -> 5750000 | H51: =H6 -> 2 | I51: 1 | J51: =H51*I51 -> 2 | K51: =K6 -> 5750000 | L51: =J51*K51 -> 11500000
A52: 3 | B52: Petugas Taman | C52: =C7 -> 4 | D52: 1 | E52: =C52*D52 -> 4 | F52: =F7 -> 5104000 | G52: =E52*F52 -> 20416000 | H52: =H7 -> 4 | I52: 1 | J52: =H52*I52 -> 4 | K52: =K7 -> 5104000 | L52: =J52*K52 -> 20416000
A53: 4 | B53: Petugas Kebersihan | C53: =C8 -> 19 | D53: 1 | E53: =C53*D53 -> 19 | F53: =F8 -> 5104000 | G53: =E53*F53 -> 96976000 | H53: =H8 -> 19 | I53: 1 | J53: =H53*I53 -> 19 | K53: =K8 -> 5104000 | L53: =J53*K53 -> 96976000
A54: 5 | B54: Pramubakti | C54: =C9 -> 7 | D54: 1 | E54: =C54*D54 -> 7 | F54: =F9 -> 5104000 | G54: =E54*F54 -> 35728000 | H54: =H9 -> 7 | I54: 1 | J54: =H54*I54 -> 7 | K54: =K9 -> 5104000 | L54: =J54*K54 -> 35728000
A55: 6 | B55: Koord. Satpam | C55: =C10 -> 1 | D55: 1 | E55: =C55*D55 -> 1 | F55: =F10 -> 6215000 | G55: =E55*F55 -> 6215000 | H55: =H10 -> 1 | I55: 1 | J55: =H55*I55 -> 1 | K55: =K10 -> 6215000 | L55: =J55*K55 -> 6215000
A56: 7 | B56: Danru Satpam | C56: =C11 -> 4 | D56: 1 | E56: =C56*D56 -> 4 | F56: =F11 -> 5915000 | G56: =E56*F56 -> 23660000 | H56: =H11 -> 4 | I56: 1 | J56: =H56*I56 -> 4 | K56: =K11 -> 5915000 | L56: =J56*K56 -> 23660000
A57: 8 | B57: Anggota Satpam | C57: =C12 -> 19 | D57: 1 | E57: =C57*D57 -> 19 | F57: =F12 -> 5615000 | G57: =E57*F57 -> 106685000 | H57: =H12 -> 23 | I57: 1 | J57: =H57*I57 -> 23 | K57: =K12 -> 5615000 | L57: =J57*K57 -> 129145000
A58: 9 | B58: Pengemudi | C58: =C13 -> 0 | D58: 1 | E58: =C58*D58 -> 0 | F58: =F13 -> 0 | G58: =E58*F58 -> 0 | H58: =H13 -> 25 | I58: 1 | J58: =H58*I58 -> 25 | K58: =K13 -> 5615000 | L58: =J58*K58 -> 140375000
A59: 10 | B59: Teknisi | C59: =C14 -> 0 | D59: 1 | E59: =C59*D59 -> 0 | F59: =F14 -> 0 | G59: =E59*F59 -> 0 | H59: =H14 -> 16 | I59: 1 | J59: =H59*I59 -> 16 | K59: =K14 -> 5250000 | L59: =J59*K59 -> 84000000
A60: v | B60: Kompensasi PKWT | G60: =SUM(G61:G70) -> 0 | L60: =SUM(L61:L70) -> 558515000
A61: 1 | B61: Resepsionis | C61: =C5 -> 1 | D61: 0 | E61: =C61*D61 -> 0 | F61: =F5 -> 5250000 | G61: =E61*F61 -> 0 | H61: =H5 -> 2 | I61: 1 | J61: =H61*I61 -> 2 | K61: =K5 -> 5250000 | L61: =J61*K61 -> 10500000
A62: 2 | B62: Supervisor | C62: =C6 -> 1 | D62: 0 | E62: =C62*D62 -> 0 | F62: =F6 -> 5750000 | G62: =E62*F62 -> 0 | H62: =H6 -> 2 | I62: 1 | J62: =H62*I62 -> 2 | K62: =K6 -> 5750000 | L62: =J62*K62 -> 11500000
A63: 3 | B63: Petugas Taman | C63: =C7 -> 4 | D63: 0 | E63: =C63*D63 -> 0 | F63: =F7 -> 5104000 | G63: =E63*F63 -> 0 | H63: =H7 -> 4 | I63: 1 | J63: =H63*I63 -> 4 | K63: =K7 -> 5104000 | L63: =J63*K63 -> 20416000
A64: 4 | B64: Petugas Kebersihan | C64: =C8 -> 19 | D64: 0 | E64: =C64*D64 -> 0 | F64: =F8 -> 5104000 | G64: =E64*F64 -> 0 | H64: =H8 -> 19 | I64: 1 | J64: =H64*I64 -> 19 | K64: =K8 -> 5104000 | L64: =J64*K64 -> 96976000
A65: 5 | B65: Pramubakti | C65: =C9 -> 7 | D65: 0 | E65: =C65*D65 -> 0 | F65: =F9 -> 5104000 | G65: =E65*F65 -> 0 | H65: =H9 -> 7 | I65: 1 | J65: =H65*I65 -> 7 | K65: =K9 -> 5104000 | L65: =J65*K65 -> 35728000
A66: 6 | B66: Koord. Satpam | C66: =C10 -> 1 | D66: 0 | E66: =C66*D66 -> 0 | F66: =F10 -> 6215000 | G66: =E66*F66 -> 0 | H66: =H10 -> 1 | I66: 1 | J66: =H66*I66 -> 1 | K66: =K10 -> 6215000 | L66: =J66*K66 -> 6215000
A67: 7 | B67: Danru Satpam | C67: =C11 -> 4 | D67: 0 | E67: =C67*D67 -> 0 | F67: =F11 -> 5915000 | G67: =E67*F67 -> 0 | H67: =H11 -> 4 | I67: 1 | J67: =H67*I67 -> 4 | K67: =K11 -> 5915000 | L67: =J67*K67 -> 23660000
A68: 8 | B68: Anggota Satpam | C68: =C12 -> 19 | D68: 0 | E68: =C68*D68 -> 0 | F68: =F12 -> 5615000 | G68: =E68*F68 -> 0 | H68: =H12 -> 23 | I68: 1 | J68: =H68*I68 -> 23 | K68: =K12 -> 5615000 | L68: =J68*K68 -> 129145000
A69: 9 | B69: Pengemudi | C69: =C13 -> 0 | D69: 0 | E69: =C69*D69 -> 0 | F69: =F13 -> 0 | G69: =E69*F69 -> 0 | H69: =H13 -> 25 | I69: 1 | J69: =H69*I69 -> 25 | K69: =K13 -> 5615000 | L69: =J69*K69 -> 140375000
A70: 10 | B70: Teknisi | C70: =C14 -> 0 | D70: 0 | E70: =C70*D70 -> 0 | F70: =F14 -> 0 | G70: =E70*F70 -> 0 | H70: =H14 -> 16 | I70: 1 | J70: =H70*I70 -> 16 | K70: =K14 -> 5250000 | L70: =J70*K70 -> 84000000
A71: B | B71: Operasional | G71: =SUM(G72:G77) -> 206500000 | L71: =SUM(L72:L77) -> 352500000
A72: 1 | B72: Seragam | C72: =SUM(C5,C6,C7,C8,C9,C13) -> 32 | D72: 2 | E72: =C72*D72 -> 64 | F72: 550000 | G72: =E72*F72 -> 35200000 | H72: =SUM(H5,H6,H7,H8,H9,H13) -> 59 | I72: 2 | J72: =H72*I72 -> 118 | K72: 550000 | L72: =J72*K72 -> 64900000
A73: 2 | B73: Pengembangan Pegawai | C73: =SUM(C5,C7,C8,C9,C13,C14) -> 31 | D73: 1 | E73: =C73*D73 -> 31 | F73: 1500000 | G73: =E73*F73 -> 46500000 | H73: =SUM(H5,H7,H8,H9,H11,H12,H13,H14) -> 100 | I73: 1 | J73: =H73*I73 -> 100 | K73: 1500000 | L73: =J73*K73 -> 150000000
A74: 3 | B74: Seragam Satpam dan Teknisi | C74: =SUM(C10,C11,C12,C14) -> 24 | D74: 2 | E74: =C74*D74 -> 48 | F74: 1200000 | G74: =E74*F74 -> 57600000 | H74: =SUM(H10,H11,H12,H14) -> 44 | I74: 2 | J74: =H74*I74 -> 88 | K74: 1200000 | L74: =J74*K74 -> 105600000
A75: 4 | B75: Pelatihan dan Refresh | C75: =SUM(C10,C11,C12) -> 24 | D75: 4 | E75: =C75*D75 -> 96 | F75: 100000 | G75: =E75*F75 -> 9600000 | H75: =SUM(H10,H11,H12) -> 28 | I75: 4 | J75: =H75*I75 -> 112 | K75: 100000 | L75: =J75*K75 -> 11200000
A76: 5 | B76: Patroli dan Koordinasi | C76: =SUM(C10,C11,C12) -> 24 | D76: 4 | E76: =C76*D76 -> 96 | F76: 100000 | G76: =E76*F76 -> 9600000 | H76: =SUM(H11,H12,H13) -> 52 | I76: 4 | J76: =H76*I76 -> 208 | K76: 100000 | L76: =J76*K76 -> 20800000
A77: 6 | B77: Pengembangan Satpam & Legalitas | C77: 8 | D77: 1 | E77: =C77*D77 -> 8 | F77: 6000000 | G77: =E77*F77 -> 48000000 | H77: 0 | I77: 0 | J77: =H77*I77 -> 0 | K77: 0 | L77: =J77*K77 -> 0
A78: c | B78: MANAGEMENT FEE | G78: =10%*SUM(G4,G16,G27,G38,G49,G60,G71) -> 4.4048199e+08 | L78: =10%*SUM(L4,L16,L27,L38,L49,L60,L71) -> 8.9983845e+08
F79: SUBTOTAL | G79: =SUM(G4,G16,G27,G38,G49,G60,G71,G78) -> 4.8453019e+09 | K79: SUBTOTAL | L79: =SUM(L4,L16,L27,L38,L49,L60,L71,L78) -> 9.898223e+09
F80: PPN 11% | G80: =G79*11% -> 5.329832e+08 | K80: PPN 12% | L80: =L79*12% -> 1.1877868e+09
F81: TOTAL | G81: =G79+G80 -> 5.3782851e+09 | K81: TOTAL | L81: =L79+L80 -> 1.108601e+10

Sheet Sheet2
